BEGIN:VCALENDAR
VERSION:2.0
PRODID:-//The Laugh House Comedy Club - ECPv6.15.20//NONSGML v1.0//EN
CALSCALE:GREGORIAN
METHOD:PUBLISH
X-WR-CALNAME:The Laugh House Comedy Club
X-ORIGINAL-URL:https://www.thelaughhouse.se
X-WR-CALDESC:Events for The Laugh House Comedy Club
REFRESH-INTERVAL;VALUE=DURATION:PT1H
X-Robots-Tag:noindex
X-PUBLISHED-TTL:PT1H
BEGIN:VTIMEZONE
TZID:Europe/Stockholm
BEGIN:DAYLIGHT
TZOFFSETFROM:+0100
TZOFFSETTO:+0200
TZNAME:CEST
DTSTART:20250330T010000
END:DAYLIGHT
BEGIN:STANDARD
TZOFFSETFROM:+0200
TZOFFSETTO:+0100
TZNAME:CET
DTSTART:20251026T010000
END:STANDARD
BEGIN:DAYLIGHT
TZOFFSETFROM:+0100
TZOFFSETTO:+0200
TZNAME:CEST
DTSTART:20260329T010000
END:DAYLIGHT
BEGIN:STANDARD
TZOFFSETFROM:+0200
TZOFFSETTO:+0100
TZNAME:CET
DTSTART:20261025T010000
END:STANDARD
BEGIN:DAYLIGHT
TZOFFSETFROM:+0100
TZOFFSETTO:+0200
TZNAME:CEST
DTSTART:20270328T010000
END:DAYLIGHT
BEGIN:STANDARD
TZOFFSETFROM:+0200
TZOFFSETTO:+0100
TZNAME:CET
DTSTART:20271031T010000
END:STANDARD
END:VTIMEZONE
BEGIN:VEVENT
DTSTART;TZID=Europe/Stockholm:20260606T210000
DTEND;TZID=Europe/Stockholm:20260606T233000
DTSTAMP:20260423T220937
CREATED:20260114T144015Z
LAST-MODIFIED:20260114T144755Z
UID:10000355-1780779600-1780788600@www.thelaughhouse.se
SUMMARY:The Laugh House June 6th English Comedy Show
DESCRIPTION:The Laugh House: Stockholm’s Authentic Comedy Basement\nForget everything you know about “stiff” Scandinavian comedy. The Laugh House is here to break the norm. \nEvery Saturday night\, we transform the heart of Stockholm into a high-octane\, New York City-style comedy basement. We bring together the best international comedy talent and a raw\, electric energy that you won’t find anywhere else in the city. \nStep into an intimate\, subterranean space where the lights are low and the energy is high. Our shows aren’t just a series of acts; they are a two-hour getaway from the troubles of the day. Led by exciting\, engaging hosts who specialize in breaking the ice and connecting the room\, we pride ourselves on a lively\, interactive atmosphere that guarantees belly laughs from start to finish. \nWhether you’re coming for a world-class headliner or a surprise international guest\, you can expect a fast-paced\, professional showcase in a room that feels like a hidden gem. This is the ultimate Saturday night destination for anyone who wants authentic\, English-speaking stand-up in a space that truly feels alive. \n\nShow Details\n\n\nWhere: The basement of Scandic Klara\, Hötorget (Slöjdgatan 7\, 111 21). \n\n\nWhen: Every Saturday (Spring Season runs through June 13th). \n\n\nDoors: 8:30 PM (Come early for drinks and to catch the pre-show buzz!) \n\n\nShowtime: 9:00 PM \n\n\nEscape the ordinary. Join the movement. Get your tickets now and experience the best English comedy in Sweden! \n*Tickets will be sold at the door (space permitting) for 300kr on a first come\, first serve basis
URL:https://www.thelaughhouse.se/event/june-6th/
LOCATION:Scandic Klara\, Slöjdsgatan 7\, Stockholm\, 111 57\, Sweden
CATEGORIES:Stockholm
ATTACH;FMTTYPE=image/jpeg:https://www.thelaughhouse.se/wp-content/uploads/2026/01/Laugh-House-Gemini-Spring-2026.jpg
ORGANIZER;CN="The Laugh House":MAILTO:thelaughhousestockholm@gmail.com
END:VEVENT
BEGIN:VEVENT
DTSTART;TZID=Europe/Stockholm:20260609T203000
DTEND;TZID=Europe/Stockholm:20260609T220000
DTSTAMP:20260423T220937
CREATED:20260320T074145Z
LAST-MODIFIED:20260320T080201Z
UID:10000373-1781037000-1781042400@www.thelaughhouse.se
SUMMARY:Tina Friml: Live in Stockholm!
DESCRIPTION:Tina Friml is a standup comedian who uses animated optimism to talk about living with cerebral palsy. In 2024\, she was named one of Variety’s Top 10 Comics To Watch. Her sharp jokes and fearless honesty about the social assumptions that come with living with a disability has earned Tina a dedicated social media following with over 300K followers on Instagram and over 215K on Tiktok. She made her late-night debut on The Tonight Show Starring Jimmy Fallon. She can also be seen on the Comedy Central series Featuring and Don’t Tell Comedy. She was a 2019 New Face in the acclaimed Just For Laughs Festival. She performs all over the country to sold out audiences and fans. \n  \nGET TICKETS HERE \n\n 
URL:https://www.thelaughhouse.se/event/tina-friml-live/
LOCATION:Scandic Klara\, Slöjdsgatan 7\, Stockholm\, 111 57\, Sweden
CATEGORIES:Stockholm
ATTACH;FMTTYPE=image/png:https://www.thelaughhouse.se/wp-content/uploads/2026/03/Stockholm.png
ORGANIZER;CN="The Laugh House":MAILTO:thelaughhousestockholm@gmail.com
END:VEVENT
BEGIN:VEVENT
DTSTART;TZID=Europe/Stockholm:20260613T210000
DTEND;TZID=Europe/Stockholm:20260613T233000
DTSTAMP:20260423T220937
CREATED:20260130T101957Z
LAST-MODIFIED:20260220T122248Z
UID:10000366-1781384400-1781393400@www.thelaughhouse.se
SUMMARY:The Laugh House Uppsala June 13th Presenting Jonathan Rollins!
DESCRIPTION:The Laugh House Uppsala: Spring Season 2025 – Comedy Nights You Won’t Forget! 🌟 \nUppsala\, get ready to laugh your way through Fall 2025! The Laugh House is back at Kappa Bar Uppsala (Svartbäcksgatan 29)\, bringing you a lineup of shows that will leave your cheeks sore and your spirits high. \n📅 When: Every show kicks off at 9:00 PM\n📍 Where: Kappa Bar Uppsala \n🎭 What’s in Store: \n\nTop-notch English comedy acts from across Sweden and beyond.\nSpecial guest comedians\, bringing international talent right to Uppsala.\nA unique vibe inspired by iconic New York City comedy clubs—because laughter always feels better in a cozy basement atmosphere.\nAffordable student and group discount tickets\, making it easier to bring your friends for a night of unmissable entertainment.\n\nWhether you’re a comedy enthusiast\, a curious newcomer\, or just looking for a fun night out\, The Laugh House Uppsala guarantees unforgettable evenings filled with laughter\, storytelling\, and good vibes. \nMark your calendars\, grab your tickets\, and prepare for a Spring of non-stop hilarity. See you there!
URL:https://www.thelaughhouse.se/event/the-laugh-house-uppsala-june-12th-presenting-kyle-lucey/
LOCATION:Kappa Bar Uppsala\, Svartbäcksgatan 29\, Uppsala\, 75332
CATEGORIES:Uppsala
ATTACH;FMTTYPE=image/jpeg:https://www.thelaughhouse.se/wp-content/uploads/2025/07/att.Q7cOk0wpudnfsX-WDPb1lpuB1kwlqy2hT5l-ubVynhg.jpeg
ORGANIZER;CN="The Laugh House":MAILTO:thelaughhousestockholm@gmail.com
END:VEVENT
END:VCALENDAR