BEGIN:VCALENDAR
VERSION:2.0
PRODID:-//The Laugh House Comedy Club - ECPv6.15.20//NONSGML v1.0//EN
CALSCALE:GREGORIAN
METHOD:PUBLISH
X-ORIGINAL-URL:https://www.thelaughhouse.se
X-WR-CALDESC:Events for The Laugh House Comedy Club
REFRESH-INTERVAL;VALUE=DURATION:PT1H
X-Robots-Tag:noindex
X-PUBLISHED-TTL:PT1H
BEGIN:VTIMEZONE
TZID:Europe/Stockholm
BEGIN:DAYLIGHT
TZOFFSETFROM:+0100
TZOFFSETTO:+0200
TZNAME:CEST
DTSTART:20230326T010000
END:DAYLIGHT
BEGIN:STANDARD
TZOFFSETFROM:+0200
TZOFFSETTO:+0100
TZNAME:CET
DTSTART:20231029T010000
END:STANDARD
BEGIN:DAYLIGHT
TZOFFSETFROM:+0100
TZOFFSETTO:+0200
TZNAME:CEST
DTSTART:20240331T010000
END:DAYLIGHT
BEGIN:STANDARD
TZOFFSETFROM:+0200
TZOFFSETTO:+0100
TZNAME:CET
DTSTART:20241027T010000
END:STANDARD
BEGIN:DAYLIGHT
TZOFFSETFROM:+0100
TZOFFSETTO:+0200
TZNAME:CEST
DTSTART:20250330T010000
END:DAYLIGHT
BEGIN:STANDARD
TZOFFSETFROM:+0200
TZOFFSETTO:+0100
TZNAME:CET
DTSTART:20251026T010000
END:STANDARD
END:VTIMEZONE
BEGIN:VEVENT
DTSTART;TZID=Europe/Stockholm:20241023T190000
DTEND;TZID=Europe/Stockholm:20241023T210000
DTSTAMP:20260422T061709
CREATED:20240904T223019Z
LAST-MODIFIED:20240904T223019Z
UID:10000251-1729710000-1729717200@www.thelaughhouse.se
SUMMARY:Open Mic Onsdag!
DESCRIPTION:Komiker på alla nivåer uppträder på vår open mic. Du kanske får se en komiker du känner igen från tv\, eller nästa stjärnskott på den svenska scenen. De flesta komikerna uppträder på svenska\, såvida vi inte har planerat en speciell show på engelska. Är du en blivande komiker? Anmäl dig eller drop in för en chans att uppträda. Annars är det bara att dyka upp på Scandic Klara och skratta med oss!
URL:https://www.thelaughhouse.se/event/open-mic-onsdag-23-okt/
LOCATION:Scandic Klara\, Slöjdsgatan 7\, Stockholm\, 111 57\, Sweden
CATEGORIES:Stockholm,Swedish shows
ORGANIZER;CN="The Laugh House":MAILTO:thelaughhousestockholm@gmail.com
END:VEVENT
BEGIN:VEVENT
DTSTART;TZID=Europe/Stockholm:20241019T210000
DTEND;TZID=Europe/Stockholm:20241019T233000
DTSTAMP:20260422T061709
CREATED:20240730T135253Z
LAST-MODIFIED:20240730T135253Z
UID:10000236-1729371600-1729380600@www.thelaughhouse.se
SUMMARY:The Laugh House Oct 19th English Comedy Show
DESCRIPTION:🎭 Laugh House Comedy Night – October 19th! \nPrepare for an evening of laughter and entertainment at The Laugh House! Join us on Saturday\, October 19th\, at 9 pm in the basement of Scandic Klara in Stockholm for a comedy show you won’t forget. \n🌟 We’re excited to announce that the headliner for the evening is the hilarious Johannes Brenning! Known for his wacky and unpredictable style\, Johannes is sure to keep you laughing from start to finish. \n🌟 Supporting Johannes are two fantastic comedians: \n\nNick White: Bringing his unique perspective and sharp wit to the stage\, Nick is sure to entertain.\nFlakrim Fejzullahu: Known for his funny observations and engaging delivery\, Flakrim is a crowd favorite.\n\n🎤 The energetic and hilarious Kathryn LeRoux will be your host for the night\, ensuring a seamless and engaging comedy experience. Kathryn’s charm and wit will keep the audience entertained and the show flowing smoothly. \n🗽 Immerse yourself in the New York City comedy club vibe right in the heart of Stockholm. The intimate setting of Scandic Klara’s basement creates the perfect atmosphere for a lively and engaging comedy experience. \n📍 Secure your tickets early and prepare for an evening of side-splitting laughter. Gather your friends\, grab your seats\, and get ready for a night of pure comedic brilliance at The Laugh House. \n  \n\n\n\n\n\n\n\n\n\n\n\n\n  \n*Tickets will be sold at the door (space permitting) for 225kr on a first come\, first serve basis
URL:https://www.thelaughhouse.se/event/oct-19th/
LOCATION:Scandic Klara\, Slöjdsgatan 7\, Stockholm\, 111 57\, Sweden
CATEGORIES:Stockholm
ORGANIZER;CN="The Laugh House":MAILTO:thelaughhousestockholm@gmail.com
END:VEVENT
BEGIN:VEVENT
DTSTART;TZID=Europe/Stockholm:20241016T190000
DTEND;TZID=Europe/Stockholm:20241016T210000
DTSTAMP:20260422T061709
CREATED:20240904T222633Z
LAST-MODIFIED:20240904T222633Z
UID:10000250-1729105200-1729112400@www.thelaughhouse.se
SUMMARY:Open Mic Onsdag!
DESCRIPTION:Komiker på alla nivåer uppträder på vår open mic. Du kanske får se en komiker du känner igen från tv\, eller nästa stjärnskott på den svenska scenen. De flesta komikerna uppträder på svenska\, såvida vi inte har planerat en speciell show på engelska. Är du en blivande komiker? Anmäl dig eller drop in för en chans att uppträda. Annars är det bara att dyka upp på Scandic Klara och skratta med oss!
URL:https://www.thelaughhouse.se/event/open-mic-onsdag-16-okt/
LOCATION:Scandic Klara\, Slöjdsgatan 7\, Stockholm\, 111 57\, Sweden
CATEGORIES:Stockholm,Swedish shows
ORGANIZER;CN="The Laugh House":MAILTO:thelaughhousestockholm@gmail.com
END:VEVENT
BEGIN:VEVENT
DTSTART;TZID=Europe/Stockholm:20241012T210000
DTEND;TZID=Europe/Stockholm:20241012T233000
DTSTAMP:20260422T061709
CREATED:20240730T133213Z
LAST-MODIFIED:20240730T133213Z
UID:10000235-1728766800-1728775800@www.thelaughhouse.se
SUMMARY:The Laugh House Presents: Dave Adams Oct 12th
DESCRIPTION:🎭 Laugh House Presents – David Adams! \nGet ready for another fantastic evening of comedy at The Laugh House! Join us on Saturday\, October 12th\, at 9 pm in the basement of Scandic Klara in Stockholm for a night filled with laughter and top-tier entertainment. \n🌟 We are thrilled to announce that our headliner for the evening is the incredibly talented Dave Adams! An Australian composer\, pianist\, vocalist\, Capricorn\, and comedian based in Berlin\, Dave brings a unique blend of musical talent and cheeky humor to the stage. His comedy often revolves around the amusing contrasts of living in Germany as a laid-back Aussie. Unlike many who perform musical comedy\, Dave plays comedic music\, blending his funky jazz background with his hilarious observations. \nDave debuted his solo hour show ‘Dave Adams Has Feelings’ to sold-out crowds in 2021 and has since performed all over Europe\, the UK\, Australia\, and Asia. He has opened for renowned comedians like Allan Havey (Seinfeld/Mad Men) and Todd Barry and was a writer for Comedy Central’s “Was ich eigentlich sagen wollte\,” despite not speaking German. He’s also appeared on the Romanian TV show ‘Stand Up Revolution.’ His second hour-long show\, “Australian Alien\,” features new songs and jokes about day-to-day survival in Berlin as a cruisey\, beer-drinking Aussie bloke. It’s a silly celebration. \n“He speaks in a rich\, somewhat blokey tone; the kind of voice that’d help you smuggle a bottle of scotch onto a golf course.” – Beat Magazine (AUS) \n🌟 Supporting Dave will be the unpredictable Ben Kersley and the hilarious and energetic Kathryn LeRoux\, both bringing their unique styles and comedic prowess to the stage. \n🎤 Your host for the night\, Jonathan Rollins\, will guide you through this fantastic lineup\, engaging the audience with witty banter and ensuring a seamless flow of comedy. \n🗽 Immerse yourself in the New York City comedy club vibe right in the heart of Stockholm. The intimate setting of Scandic Klara’s basement creates the perfect atmosphere for a lively and engaging comedy experience. \n📍 Secure your tickets early and prepare for an evening of side-splitting laughter. Gather your friends\, grab your seats\, and get ready for a night of pure comedic brilliance at The Laugh House. \n\n\n\n\n\n\n\n\n\n\n\n\n  \n*Tickets will be sold at the door (space permitting) for 245kr on a first come\, first serve basis
URL:https://www.thelaughhouse.se/event/dave-adams-oct-12th/
LOCATION:Scandic Klara\, Slöjdsgatan 7\, Stockholm\, 111 57\, Sweden
CATEGORIES:Stockholm
ORGANIZER;CN="The Laugh House":MAILTO:thelaughhousestockholm@gmail.com
END:VEVENT
BEGIN:VEVENT
DTSTART;TZID=Europe/Stockholm:20241009T190000
DTEND;TZID=Europe/Stockholm:20241009T210000
DTSTAMP:20260422T061709
CREATED:20240904T222345Z
LAST-MODIFIED:20240904T223428Z
UID:10000249-1728500400-1728507600@www.thelaughhouse.se
SUMMARY:Open Mic Onsdag!
DESCRIPTION:Komiker på alla nivåer uppträder på vår open mic. Du kanske får se en komiker du känner igen från tv\, eller nästa stjärnskott på den svenska scenen. De flesta komikerna uppträder på svenska\, såvida vi inte har planerat en speciell show på engelska. Är du en blivande komiker? Anmäl dig eller drop in för en chans att uppträda. Annars är det bara att dyka upp på Scandic Klara och skratta med oss!
URL:https://www.thelaughhouse.se/event/open-mic-onsdag-9-okt/
LOCATION:Scandic Klara\, Slöjdsgatan 7\, Stockholm\, 111 57\, Sweden
CATEGORIES:Stockholm,Swedish shows
ORGANIZER;CN="The Laugh House":MAILTO:thelaughhousestockholm@gmail.com
END:VEVENT
BEGIN:VEVENT
DTSTART;TZID=Europe/Stockholm:20241002T190000
DTEND;TZID=Europe/Stockholm:20241002T210000
DTSTAMP:20260422T061709
CREATED:20240904T221215Z
LAST-MODIFIED:20240904T221215Z
UID:10000248-1727895600-1727902800@www.thelaughhouse.se
SUMMARY:Open Mic Onsdag!
DESCRIPTION:Komiker på alla nivåer uppträder på vår open mic. Du kanske får se en komiker du känner igen från tv\, eller nästa stjärnskott på den svenska scenen. De flesta komikerna uppträder på svenska\, såvida vi inte har planerat en speciell show på engelska. Är du en blivande komiker? Anmäl dig eller drop in för en chans att uppträda. Annars är det bara att dyka upp på Scandic Klara och skratta med oss!
URL:https://www.thelaughhouse.se/event/open-mic-onsdag-2-oct/
LOCATION:Scandic Klara\, Slöjdsgatan 7\, Stockholm\, 111 57\, Sweden
CATEGORIES:Stockholm,Swedish shows
ORGANIZER;CN="The Laugh House":MAILTO:thelaughhousestockholm@gmail.com
END:VEVENT
BEGIN:VEVENT
DTSTART;TZID=Europe/Stockholm:20240928T210000
DTEND;TZID=Europe/Stockholm:20240928T233000
DTSTAMP:20260422T061709
CREATED:20240724T061904Z
LAST-MODIFIED:20240728T123843Z
UID:10000230-1727557200-1727566200@www.thelaughhouse.se
SUMMARY:The Laugh House Presents: Jason Rouse
DESCRIPTION:Jason Rouse – Stockholm Sep 28th \nPrepare for an unforgettable evening of laughter with The Laugh House! Join us on Saturday\, September 28th\, at 9 pm in the basement of Scandic Klara for a night of edgy and hilarious comedy. \n🌟 The night will be headlined by the renowned Jason Rouse\, a veteran Canadian comedian known for his dark\, edgy\, and often controversial humor. Jason has performed at major comedy festivals and clubs around the world\, earning a dedicated fan base with his fearless and boundary-pushing comedy. His unique style guarantees a night of laughter you won’t forget. \n🎤 Our charming host will guide you through the evening\, ensuring a seamless flow of humor and entertainment. The lineup features some of the best English-speaking comedians in Sweden\, making this a night of top-tier comedy. \n🗽 Immerse yourself in the New York City comedy club vibe right in the heart of Stockholm. The intimate setting of Scandic Klara’s basement creates the perfect atmosphere for a lively and engaging comedy experience. \n📍 Make sure to secure your tickets early! Gather your friends\, grab your seats\, and get ready for a night of side-splitting laughter with The Laugh House. \n 
URL:https://www.thelaughhouse.se/event/jason-rouse/
LOCATION:Scandic Klara\, Slöjdsgatan 7\, Stockholm\, 111 57\, Sweden
CATEGORIES:Stockholm
ORGANIZER;CN="The Laugh House":MAILTO:thelaughhousestockholm@gmail.com
END:VEVENT
BEGIN:VEVENT
DTSTART;TZID=Europe/Stockholm:20240927T203000
DTEND;TZID=Europe/Stockholm:20240927T233000
DTSTAMP:20260422T061709
CREATED:20240705T121555Z
LAST-MODIFIED:20240821T091939Z
UID:10000223-1727469000-1727479800@www.thelaughhouse.se
SUMMARY:Svartskalle Standup 27-sep
DESCRIPTION:The Laugh House är grymt stolta över stödet vi har nu fått från Stockholm Stad för att köra “The Svartskalle Standup Fall Premiere”! Den här säsongen kommer showerna vara större och bättre än någonsin med våra feta värdar\, toppkomiker och stökiga publiker. Nu släpper vi också Svartskalle Standup Band med livemusik på varje show för att sätta den rätta Svartskalle Standup-viben som alla snackar om! Missa inte showen den 27:e september. \nLineupen för premiären är redan grym! Showen kommer att ledas av Martin Lagos. På scenen kommer vi att ha de fantastiska komikerna Kodjo Akolor\, Shan Atci\, Martin Johansson och Eleni Tångstedt. \n  \n*Biljetter finns att köpa vid dörren för 200kr (först till kvarn)
URL:https://www.thelaughhouse.se/event/svartskalle-standup-27-sep/
LOCATION:Scandic Klara\, Slöjdsgatan 7\, Stockholm\, 111 57\, Sweden
CATEGORIES:Stockholm,Swedish shows
ORGANIZER;CN="The Laugh House":MAILTO:thelaughhousestockholm@gmail.com
END:VEVENT
BEGIN:VEVENT
DTSTART;TZID=Europe/Stockholm:20240921T210000
DTEND;TZID=Europe/Stockholm:20240921T233000
DTSTAMP:20260422T061709
CREATED:20240730T122754Z
LAST-MODIFIED:20240730T122815Z
UID:10000232-1726952400-1726961400@www.thelaughhouse.se
SUMMARY:The Laugh House English Comedy Show Sep 21st
DESCRIPTION:Laugh House Comedy Night – September 21st! \nJoin us for another unforgettable evening of laughter at The Laugh House! On Saturday\, September 21st\, at 9 pm\, head down to the basement of Scandic Klara in Stockholm for a night of top-tier comedy. \n🌟 We have an exciting lineup of some of the best English-speaking comedians in Sweden. While we haven’t announced the headliner just yet\, you can expect a performance that will leave you in stitches. Each comedian brings a unique flavor of humor\, ensuring a diverse and hilarious experience. \n🎤 Our charming host will guide you through the evening\, engaging the audience with witty banter and seamless transitions. The intimate setting of Scandic Klara’s basement provides the perfect atmosphere for a lively and engaging comedy show\, reminiscent of a New York City comedy club right in the heart of Stockholm. \n🗽 Immerse yourself in the vibrant and energetic vibe that The Laugh House is known for. Our international and lively crowds make each show a unique experience\, with our host often trading banter with the audience\, especially those daring enough to sit in the front row. \n📍 Secure your tickets early and prepare for an evening of side-splitting laughter. Gather your friends\, grab your seats\, and get ready for a night of pure comedic brilliance at The Laugh House.
URL:https://www.thelaughhouse.se/event/sep-21st/
LOCATION:Scandic Klara\, Slöjdsgatan 7\, Stockholm\, 111 57\, Sweden
CATEGORIES:Stockholm
ORGANIZER;CN="The Laugh House":MAILTO:thelaughhousestockholm@gmail.com
END:VEVENT
BEGIN:VEVENT
DTSTART;TZID=Europe/Stockholm:20240918T200000
DTEND;TZID=Europe/Stockholm:20240918T220000
DTSTAMP:20260422T061709
CREATED:20240904T220622Z
LAST-MODIFIED:20240912T052630Z
UID:10000246-1726689600-1726696800@www.thelaughhouse.se
SUMMARY:Open Mic Onsdag!
DESCRIPTION:***SHOWEN BÖRJAR KL 20.00 PÅ DEN 18:E SEPTEMBER***\n\n\n\n\n\n\n\n\n\n\nKomiker på alla nivåer uppträder på vår open mic. Du kanske får se en komiker du känner igen från tv\, eller nästa stjärnskott på den svenska scenen. De flesta komikerna uppträder på svenska\, såvida vi inte har planerat en speciell show på engelska. Är du en blivande komiker? Anmäl dig eller drop in för en chans att uppträda. Annars är det bara att dyka upp på Scandic Klara och skratta med oss!
URL:https://www.thelaughhouse.se/event/open-mic-onsdag-18-sep/
LOCATION:Scandic Klara\, Slöjdsgatan 7\, Stockholm\, 111 57\, Sweden
CATEGORIES:Stockholm,Swedish shows
ORGANIZER;CN="The Laugh House":MAILTO:thelaughhousestockholm@gmail.com
END:VEVENT
BEGIN:VEVENT
DTSTART;TZID=Europe/Stockholm:20240914T210000
DTEND;TZID=Europe/Stockholm:20240914T233000
DTSTAMP:20260422T061709
CREATED:20240718T143035Z
LAST-MODIFIED:20240728T123725Z
UID:10000229-1726347600-1726356600@www.thelaughhouse.se
SUMMARY:The Laugh House English Comedy Show Sep 14th
DESCRIPTION:Laugh House Comedy Night – September 14th! \nJoin us for another hilarious night at The Laugh House on Saturday\, September 14th\, at 9 pm in the basement of Scandic Klara. We’re excited to bring you a night filled with laughter\, featuring some of the best English-speaking comedians in Sweden. \n🎤 Our host for the evening will guide you through an unforgettable lineup of comedic talent\, ensuring a seamless flow of humor and entertainment. Even though we haven’t announced the headliner just yet\, you can expect a top-notch performance that will leave you in stitches. \n🗽 Immerse yourself in the New York City comedy club vibe right in the heart of Stockholm. The intimate setting of Scandic Klara’s basement creates the perfect atmosphere for a lively and engaging comedy experience. \n📍 Make sure to secure your tickets early! Gather your friends\, grab your seats\, and get ready for a night of side-splitting laughter with The Laugh House.
URL:https://www.thelaughhouse.se/event/sep-14th/
LOCATION:Scandic Klara\, Slöjdsgatan 7\, Stockholm\, 111 57\, Sweden
CATEGORIES:Stockholm
ORGANIZER;CN="The Laugh House":MAILTO:thelaughhousestockholm@gmail.com
END:VEVENT
BEGIN:VEVENT
DTSTART;TZID=Europe/Stockholm:20240911T190000
DTEND;TZID=Europe/Stockholm:20240911T210000
DTSTAMP:20260422T061709
CREATED:20240904T220222Z
LAST-MODIFIED:20240904T223703Z
UID:10000245-1726081200-1726088400@www.thelaughhouse.se
SUMMARY:Open Mic Onsdag!
DESCRIPTION:Komiker på alla nivåer uppträder på vår open mic. Du kanske får se en komiker du känner igen från tv\, eller nästa stjärnskott på den svenska scenen. De flesta komikerna uppträder på svenska\, såvida vi inte har planerat en speciell show på engelska. Är du en blivande komiker? Anmäl dig eller drop in för en chans att uppträda. Annars är det bara att dyka upp på Scandic Klara och skratta med oss!
URL:https://www.thelaughhouse.se/event/open-mic-onsdag-11-sep/
LOCATION:Scandic Klara\, Slöjdsgatan 7\, Stockholm\, 111 57\, Sweden
CATEGORIES:Stockholm,Swedish shows
ORGANIZER;CN="The Laugh House":MAILTO:thelaughhousestockholm@gmail.com
END:VEVENT
BEGIN:VEVENT
DTSTART;TZID=Europe/Stockholm:20240907T210000
DTEND;TZID=Europe/Stockholm:20240907T233000
DTSTAMP:20260422T061709
CREATED:20240718T121316Z
LAST-MODIFIED:20240728T123705Z
UID:10000228-1725742800-1725751800@www.thelaughhouse.se
SUMMARY:The Laugh House English Comedy Show Sep 7th
DESCRIPTION:The Laugh House Comedy Night – September 7th! \nGet ready for another night of side-splitting laughter at The Laugh House! Join us on Saturday\, September 7th\, at 9 pm in the basement of Scandic Klara for an unforgettable evening of comedy. \n🌟 The night will be headlined by the fantastic Isak Jansson! Known for his sharp wit and hilarious observations\, Isak is a seasoned comedian who never fails to leave audiences in stitches. His unique comedic style and engaging stage presence make him one of the most sought-after comedians in Sweden. \n🎤 Hosting the evening will be the delightful Kathryn LeRoux\, who will guide you through a night filled with laughter and entertainment. With a lineup featuring some of the best English acts in Sweden\, this is a comedy night you won’t want to miss. \n🗽 Experience the New York City comedy club vibe right in the heart of Stockholm. The intimate setting of Scandic Klara’s basement creates the perfect atmosphere for a lively and engaging comedy experience. \n📍 Mark your calendars and secure your tickets early! Bring your friends\, find your seats\, and get ready for a night of hilarious fun with The Laugh House.
URL:https://www.thelaughhouse.se/event/sep-7th/
LOCATION:Scandic Klara\, Slöjdsgatan 7\, Stockholm\, 111 57\, Sweden
CATEGORIES:Stockholm
ORGANIZER;CN="The Laugh House":MAILTO:thelaughhousestockholm@gmail.com
END:VEVENT
BEGIN:VEVENT
DTSTART;TZID=Europe/Stockholm:20240831T210000
DTEND;TZID=Europe/Stockholm:20240831T233000
DTSTAMP:20260422T061709
CREATED:20240712T093646Z
LAST-MODIFIED:20240728T123649Z
UID:10000227-1725138000-1725147000@www.thelaughhouse.se
SUMMARY:The Laugh House English Comedy Show Fall Premiere
DESCRIPTION:The Laugh House Fall Premiere – August 31st! \nWe are thrilled to kick off a new season of Sweden’s best English comedy club at The Laugh House! Join us on August 31st at Scandic Klara for an unforgettable night of laughter and entertainment\, starting at 9 pm. \n🌟 The premiere will be headlined by the incredible Luana Matei! Originally from Romania\, Luana lived in Tokyo for 12 years before getting trapped in Amsterdam during the lockdown. Her jokes range from family & therapy\, love & sex\, marriage & divorce\, to cheating & loss; in no particular order. Since 2022\, she has extensively toured Europe with over 250 packed shows (152+ sold out)\, entertaining more than 25\,000 people. Her comedy is dark\, insightful\, and deftly encapsulates her experiences living and traveling around the world! Luana takes vulnerability to another level\, pushing the boundaries of “How soon is too soon?” \nLuana is currently on a European Tour with her two comedy solos: \n\n“How To Cheat On Your Husband” – A Cheater’s Guide To Love\n“My Therapist is Ukrainian” – Personal\, interactive\, heart-warming humor driven by honesty.\n\n🎤 Hosting the night will be the charismatic Jonathan Rollins\, ensuring a night filled with hilarity and seamless transitions. This special event boasts some of the best English acts Sweden has to offer\, promising an evening of top-notch comedy that you won’t want to miss. \nImmerse yourself in the New York City comedy club vibe right in the heart of Stockholm. The basement of Scandic Klara provides the perfect setting for a lively and intimate comedy experience. \n📍 Mark your calendars and get your tickets early! Gather your friends\, secure your spots\, and get ready for a night of side-splitting laughter as we kick off the new season with a bang.
URL:https://www.thelaughhouse.se/event/2024-fall-premiere/
CATEGORIES:Stockholm
ORGANIZER;CN="The Laugh House":MAILTO:thelaughhousestockholm@gmail.com
END:VEVENT
BEGIN:VEVENT
DTSTART;TZID=Europe/Stockholm:20240830T203000
DTEND;TZID=Europe/Stockholm:20240830T233000
DTSTAMP:20260422T061709
CREATED:20240703T162700Z
LAST-MODIFIED:20240821T091856Z
UID:10000222-1725049800-1725060600@www.thelaughhouse.se
SUMMARY:Svartskalle Standup Höstpremiär!
DESCRIPTION:The Laugh House är grymt stolta över stödet vi har nu fått från Stockholm Stad för att köra “The Svartskalle Standup Fall Premiere”! Den här säsongen kommer showerna vara större och bättre än någonsin med våra feta värdar\, toppkomiker och stökiga publiker. Nu släpper vi också Svartskalle Standup Band med livemusik på varje show för att sätta den rätta Svartskalle Standup-viben som alla snackar om! Missa inte premiären den 30 augusti!\nLineupen för premiären är redan grym! Showen kommer att ledas av Jonathan Rollins. På scenen kommer vi att ha de fantastiska komikerna Flakrim Fejzullahu\, Zinat Pirzadeh\, Daniel Sanchez och Victor Wu. \n*Biljetter finns att köpa vid dörren för 200kr (först till kvarn)
URL:https://www.thelaughhouse.se/event/svartskalle-standup-hostpremiar/
LOCATION:Scandic Klara\, Slöjdsgatan 7\, Stockholm\, 111 57\, Sweden
CATEGORIES:Stockholm,Swedish shows
ORGANIZER;CN="The Laugh House":MAILTO:thelaughhousestockholm@gmail.com
END:VEVENT
BEGIN:VEVENT
DTSTART;TZID=Europe/Stockholm:20240608T210000
DTEND;TZID=Europe/Stockholm:20240608T233000
DTSTAMP:20260422T061709
CREATED:20240109T160359Z
LAST-MODIFIED:20240109T160359Z
UID:10000179-1717880400-1717889400@www.thelaughhouse.se
SUMMARY:The Laugh House Season Finale with Tamer Kattan
DESCRIPTION:🎭 The moment we’ve all been waiting for is here! The grand finale of The Laugh House season promises an extraordinary night of laughter\, surprises\, and pure comedic brilliance. Join us on June 8th at Scandic Klara\, starting at 9 pm\, for a spectacular show that will close out the season with a bang! \n🌟 We’re thrilled to announce that your charismatic host and master of ceremonies for the evening will be none other than the fantastic Jonathan Rollins! A familiar face at The Laugh House\, Jonathan is ready to guide you through an unforgettable night of comedy alongside our headliner\, the international sensation Tamer Kattan. \n🎤 Tamer Kattan\, renowned for his razor-sharp wit and captivating performances on the global comedy stage\, is set to headline the evening. Get ready for a laughter-filled journey as Jonathan and Tamer take the stage to create an atmosphere of joy and entertainment. \n📍 Join us at Scandic Klara\, right in the heart of Stockholm\, for a night that you won’t want to miss. The show kicks off at 9 pm\, so mark your calendars\, gather your friends\, and be prepared for an extraordinary finale to The Laugh House season. \nSecure your tickets early\, as the combination of Tamer Kattan’s international flair and Jonathan Rollins’ hosting magic is sure to make this season finale an event to remember. Don’t miss the chance to be part of a night that will leave you with lasting memories!
URL:https://www.thelaughhouse.se/event/season-finale-tamer-kattan/
LOCATION:Scandic Klara\, Slöjdsgatan 7\, Stockholm\, 111 57\, Sweden
CATEGORIES:Stockholm
ORGANIZER;CN="The Laugh House":MAILTO:thelaughhousestockholm@gmail.com
END:VEVENT
END:VCALENDAR