BEGIN:VCALENDAR
VERSION:2.0
PRODID:-//The Laugh House Comedy Club - ECPv6.15.20//NONSGML v1.0//EN
CALSCALE:GREGORIAN
METHOD:PUBLISH
X-ORIGINAL-URL:https://www.thelaughhouse.se
X-WR-CALDESC:Events for The Laugh House Comedy Club
REFRESH-INTERVAL;VALUE=DURATION:PT1H
X-Robots-Tag:noindex
X-PUBLISHED-TTL:PT1H
BEGIN:VTIMEZONE
TZID:Europe/Stockholm
BEGIN:DAYLIGHT
TZOFFSETFROM:+0100
TZOFFSETTO:+0200
TZNAME:CEST
DTSTART:20250330T010000
END:DAYLIGHT
BEGIN:STANDARD
TZOFFSETFROM:+0200
TZOFFSETTO:+0100
TZNAME:CET
DTSTART:20251026T010000
END:STANDARD
BEGIN:DAYLIGHT
TZOFFSETFROM:+0100
TZOFFSETTO:+0200
TZNAME:CEST
DTSTART:20260329T010000
END:DAYLIGHT
BEGIN:STANDARD
TZOFFSETFROM:+0200
TZOFFSETTO:+0100
TZNAME:CET
DTSTART:20261025T010000
END:STANDARD
BEGIN:DAYLIGHT
TZOFFSETFROM:+0100
TZOFFSETTO:+0200
TZNAME:CEST
DTSTART:20270328T010000
END:DAYLIGHT
BEGIN:STANDARD
TZOFFSETFROM:+0200
TZOFFSETTO:+0100
TZNAME:CET
DTSTART:20271031T010000
END:STANDARD
END:VTIMEZONE
BEGIN:VEVENT
DTSTART;TZID=Europe/Stockholm:20261007T193000
DTEND;TZID=Europe/Stockholm:20261007T210000
DTSTAMP:20260422T004733
CREATED:20260213T080022Z
LAST-MODIFIED:20260213T080952Z
UID:10000368-1791401400-1791406800@www.thelaughhouse.se
SUMMARY:Tova Leigh: Fifty Shades of RAGE
DESCRIPTION:Fifty Shades of RAGE \nBack by popular demand after her sell-out 2024 tour\,  where she lifted the lid on marriage\, motherhood\, and the wild ride of perimenopause. Tova Leigh is back with a brand new one woman show: Fifty Shades of RAGE. \nThis time\, she’s talking all things sex. From desire and self-pleasure to vaginal dryness\, hormones\, feminism\, and motherhood\, absolutely nothing is off imits. \nBold\, brutally honest\, and laugh-out-loud funny\, Fifty Shades of RAGE is modern womanhood\, unfiltered\, loud\, honest\, and always well-lubed. \n18+
URL:https://www.thelaughhouse.se/event/tova-leigh-fifty-shades-of-rage/
LOCATION:Scandic Klara\, Slöjdsgatan 7\, Stockholm\, 111 57\, Sweden
CATEGORIES:Stockholm
ATTACH;FMTTYPE=image/png:https://www.thelaughhouse.se/wp-content/uploads/2026/02/Tova-Feed.png
ORGANIZER;CN="The Laugh House":MAILTO:thelaughhousestockholm@gmail.com
END:VEVENT
END:VCALENDAR