BEGIN:VCALENDAR
VERSION:2.0
PRODID:-//The Laugh House Comedy Club - ECPv6.15.20//NONSGML v1.0//EN
CALSCALE:GREGORIAN
METHOD:PUBLISH
X-ORIGINAL-URL:https://www.thelaughhouse.se
X-WR-CALDESC:Events for The Laugh House Comedy Club
REFRESH-INTERVAL;VALUE=DURATION:PT1H
X-Robots-Tag:noindex
X-PUBLISHED-TTL:PT1H
BEGIN:VTIMEZONE
TZID:Europe/Stockholm
BEGIN:DAYLIGHT
TZOFFSETFROM:+0100
TZOFFSETTO:+0200
TZNAME:CEST
DTSTART:20250330T010000
END:DAYLIGHT
BEGIN:STANDARD
TZOFFSETFROM:+0200
TZOFFSETTO:+0100
TZNAME:CET
DTSTART:20251026T010000
END:STANDARD
BEGIN:DAYLIGHT
TZOFFSETFROM:+0100
TZOFFSETTO:+0200
TZNAME:CEST
DTSTART:20260329T010000
END:DAYLIGHT
BEGIN:STANDARD
TZOFFSETFROM:+0200
TZOFFSETTO:+0100
TZNAME:CET
DTSTART:20261025T010000
END:STANDARD
BEGIN:DAYLIGHT
TZOFFSETFROM:+0100
TZOFFSETTO:+0200
TZNAME:CEST
DTSTART:20270328T010000
END:DAYLIGHT
BEGIN:STANDARD
TZOFFSETFROM:+0200
TZOFFSETTO:+0100
TZNAME:CET
DTSTART:20271031T010000
END:STANDARD
END:VTIMEZONE
BEGIN:VEVENT
DTSTART;TZID=Europe/Stockholm:20260609T203000
DTEND;TZID=Europe/Stockholm:20260609T220000
DTSTAMP:20260421T202057
CREATED:20260320T074145Z
LAST-MODIFIED:20260320T080201Z
UID:10000373-1781037000-1781042400@www.thelaughhouse.se
SUMMARY:Tina Friml: Live in Stockholm!
DESCRIPTION:Tina Friml is a standup comedian who uses animated optimism to talk about living with cerebral palsy. In 2024\, she was named one of Variety’s Top 10 Comics To Watch. Her sharp jokes and fearless honesty about the social assumptions that come with living with a disability has earned Tina a dedicated social media following with over 300K followers on Instagram and over 215K on Tiktok. She made her late-night debut on The Tonight Show Starring Jimmy Fallon. She can also be seen on the Comedy Central series Featuring and Don’t Tell Comedy. She was a 2019 New Face in the acclaimed Just For Laughs Festival. She performs all over the country to sold out audiences and fans. \n  \nGET TICKETS HERE \n\n 
URL:https://www.thelaughhouse.se/event/tina-friml-live/
LOCATION:Scandic Klara\, Slöjdsgatan 7\, Stockholm\, 111 57\, Sweden
CATEGORIES:Stockholm
ATTACH;FMTTYPE=image/png:https://www.thelaughhouse.se/wp-content/uploads/2026/03/Stockholm.png
ORGANIZER;CN="The Laugh House":MAILTO:thelaughhousestockholm@gmail.com
END:VEVENT
END:VCALENDAR