BEGIN:VCALENDAR
VERSION:2.0
PRODID:-//The Laugh House Comedy Club - ECPv6.15.20//NONSGML v1.0//EN
CALSCALE:GREGORIAN
METHOD:PUBLISH
X-WR-CALNAME:The Laugh House Comedy Club
X-ORIGINAL-URL:https://www.thelaughhouse.se
X-WR-CALDESC:Events for The Laugh House Comedy Club
REFRESH-INTERVAL;VALUE=DURATION:PT1H
X-Robots-Tag:noindex
X-PUBLISHED-TTL:PT1H
BEGIN:VTIMEZONE
TZID:Europe/Stockholm
BEGIN:DAYLIGHT
TZOFFSETFROM:+0100
TZOFFSETTO:+0200
TZNAME:CEST
DTSTART:20250330T010000
END:DAYLIGHT
BEGIN:STANDARD
TZOFFSETFROM:+0200
TZOFFSETTO:+0100
TZNAME:CET
DTSTART:20251026T010000
END:STANDARD
BEGIN:DAYLIGHT
TZOFFSETFROM:+0100
TZOFFSETTO:+0200
TZNAME:CEST
DTSTART:20260329T010000
END:DAYLIGHT
BEGIN:STANDARD
TZOFFSETFROM:+0200
TZOFFSETTO:+0100
TZNAME:CET
DTSTART:20261025T010000
END:STANDARD
BEGIN:DAYLIGHT
TZOFFSETFROM:+0100
TZOFFSETTO:+0200
TZNAME:CEST
DTSTART:20270328T010000
END:DAYLIGHT
BEGIN:STANDARD
TZOFFSETFROM:+0200
TZOFFSETTO:+0100
TZNAME:CET
DTSTART:20271031T010000
END:STANDARD
END:VTIMEZONE
BEGIN:VEVENT
DTSTART;TZID=Europe/Stockholm:20260529T203000
DTEND;TZID=Europe/Stockholm:20260529T233000
DTSTAMP:20260421T184804
CREATED:20260121T172157Z
LAST-MODIFIED:20260121T172157Z
UID:10000365-1780086600-1780097400@www.thelaughhouse.se
SUMMARY:Svartskalle Standup 29-maj
DESCRIPTION:Svartskalle Standup – DEN STORA SÄSONGSFINALEN! (29 maj)\nVi avslutar våren med ett gigantiskt utropstecken! \nDen 29 maj går vi i mål med säsongens sista Svartskalle Standup på The Laugh House. Vi har sparat det absolut tyngsta till sist och bjudit in en trio som garanterat kommer få källaren på Scandic Klara att vibrera. Det här är din sista chans att uppleva Stockholms mest unika humorkväll innan vi tar sommaruppehåll! \nSäsongsfinalens tunga line-up:\n\n\nMC: Jonathan Rollins – Vår självklara kapten som lett oss genom hela 2026. Jonathan ser till att energin är på max och att kontakten med publiken är tätare än någonsin i denna stora final. \n\n\nAhmed Berhan – En av landets mest älskade komiker och ett ansikte utåt för svensk humor (IFS\, Släng dig i brunnen). Ahmeds timing och briljanta observationer gör honom till en sann publikfavorit. \n\n\nSimon Garshasebi – Känd för sin enorma energi och träffsäkra humor. Simon (från bl.a. JLC) levererar en scennärvaro som är fysisk\, rå och helt omöjlig att inte dras med i. \n\n\nAto Karlsson – En raket på humorscenen som tagit Sverige med storm. Atos charm och knivskarpa storytelling är det perfekta tillskottet för en legendarisk finalkväll. \n\n\nLiveband\, Raw Humor & Folkfest Vi maxar allt! Vårt liveband drar upp volymen\, baren är redo och stämningen kommer vara elektrisk. Svartskalle Standup handlar om att fira mångfalden och den råa humorn – och det finns inget bättre tillfälle att uppleva det på än under vår säsongsfinal. \nSäkra biljetterna IDAG! Säsongsfinaler säljer alltid slut rekordsnabbt. Missa inte chansen att vara en del av årets sista stora löningsfest på Slöjdgatan 7. \n\nInfo:\n\n\nPlats: The Laugh House (Scandic Klara\, Slöjdgatan 7) \n\n\nDatum: Fredag 29 maj \n\n\nTid: 20:30 (Kom i tid – det kommer bli fullt hus!) \n\n\nSpråk: Svenska \n\n\n\n\n\n\n*Biljetter finns att köpa vid dörren för 250kr (först till kvarn)
URL:https://www.thelaughhouse.se/event/svartskalle-standup-29-maj/
LOCATION:Scandic Klara\, Slöjdsgatan 7\, Stockholm\, 111 57\, Sweden
CATEGORIES:Stockholm,Swedish shows
ORGANIZER;CN="The Laugh House":MAILTO:thelaughhousestockholm@gmail.com
END:VEVENT
END:VCALENDAR