BEGIN:VCALENDAR
VERSION:2.0
PRODID:-//The Laugh House Comedy Club - ECPv6.15.20//NONSGML v1.0//EN
CALSCALE:GREGORIAN
METHOD:PUBLISH
X-ORIGINAL-URL:https://www.thelaughhouse.se
X-WR-CALDESC:Events for The Laugh House Comedy Club
REFRESH-INTERVAL;VALUE=DURATION:PT1H
X-Robots-Tag:noindex
X-PUBLISHED-TTL:PT1H
BEGIN:VTIMEZONE
TZID:Europe/Stockholm
BEGIN:DAYLIGHT
TZOFFSETFROM:+0100
TZOFFSETTO:+0200
TZNAME:CEST
DTSTART:20250330T010000
END:DAYLIGHT
BEGIN:STANDARD
TZOFFSETFROM:+0200
TZOFFSETTO:+0100
TZNAME:CET
DTSTART:20251026T010000
END:STANDARD
BEGIN:DAYLIGHT
TZOFFSETFROM:+0100
TZOFFSETTO:+0200
TZNAME:CEST
DTSTART:20260329T010000
END:DAYLIGHT
BEGIN:STANDARD
TZOFFSETFROM:+0200
TZOFFSETTO:+0100
TZNAME:CET
DTSTART:20261025T010000
END:STANDARD
BEGIN:DAYLIGHT
TZOFFSETFROM:+0100
TZOFFSETTO:+0200
TZNAME:CEST
DTSTART:20270328T010000
END:DAYLIGHT
BEGIN:STANDARD
TZOFFSETFROM:+0200
TZOFFSETTO:+0100
TZNAME:CET
DTSTART:20271031T010000
END:STANDARD
END:VTIMEZONE
BEGIN:VEVENT
DTSTART;TZID=Europe/Stockholm:20260523T210000
DTEND;TZID=Europe/Stockholm:20260523T233000
DTSTAMP:20260421T185058
CREATED:20260114T141301Z
LAST-MODIFIED:20260114T141301Z
UID:10000359-1779570000-1779579000@www.thelaughhouse.se
SUMMARY:The Laugh House May 23rd English Comedy Show
DESCRIPTION:The Laugh House: Stockholm’s Authentic Comedy Basement\nForget everything you know about “stiff” Scandinavian comedy. The Laugh House is here to break the norm. \nEvery Saturday night\, we transform the heart of Stockholm into a high-octane\, New York City-style comedy basement. We bring together the best international comedy talent and a raw\, electric energy that you won’t find anywhere else in the city. \nStep into an intimate\, subterranean space where the lights are low and the energy is high. Our shows aren’t just a series of acts; they are a two-hour getaway from the troubles of the day. Led by exciting\, engaging hosts who specialize in breaking the ice and connecting the room\, we pride ourselves on a lively\, interactive atmosphere that guarantees belly laughs from start to finish. \nWhether you’re coming for a world-class headliner or a surprise international guest\, you can expect a fast-paced\, professional showcase in a room that feels like a hidden gem. This is the ultimate Saturday night destination for anyone who wants authentic\, English-speaking stand-up in a space that truly feels alive. \n\nShow Details\n\n\nWhere: The basement of Scandic Klara\, Hötorget (Slöjdgatan 7\, 111 21). \n\n\nWhen: Every Saturday (Spring Season runs through June 13th). \n\n\nDoors: 8:30 PM (Come early for drinks and to catch the pre-show buzz!) \n\n\nShowtime: 9:00 PM \n\n\nEscape the ordinary. Join the movement. Get your tickets now and experience the best English comedy in Sweden! \n*Tickets will be sold at the door (space permitting) for 300kr on a first come\, first serve basis
URL:https://www.thelaughhouse.se/event/may-23rd/
LOCATION:Scandic Klara\, Slöjdsgatan 7\, Stockholm\, 111 57\, Sweden
CATEGORIES:Stockholm
ATTACH;FMTTYPE=image/jpeg:https://www.thelaughhouse.se/wp-content/uploads/2026/01/Laugh-House-Gemini-Spring-2026.jpg
ORGANIZER;CN="The Laugh House":MAILTO:thelaughhousestockholm@gmail.com
END:VEVENT
END:VCALENDAR