BEGIN:VCALENDAR
VERSION:2.0
PRODID:-//The Laugh House Comedy Club - ECPv6.15.20//NONSGML v1.0//EN
CALSCALE:GREGORIAN
METHOD:PUBLISH
X-ORIGINAL-URL:https://www.thelaughhouse.se
X-WR-CALDESC:Events for The Laugh House Comedy Club
REFRESH-INTERVAL;VALUE=DURATION:PT1H
X-Robots-Tag:noindex
X-PUBLISHED-TTL:PT1H
BEGIN:VTIMEZONE
TZID:Europe/Stockholm
BEGIN:DAYLIGHT
TZOFFSETFROM:+0100
TZOFFSETTO:+0200
TZNAME:CEST
DTSTART:20250330T010000
END:DAYLIGHT
BEGIN:STANDARD
TZOFFSETFROM:+0200
TZOFFSETTO:+0100
TZNAME:CET
DTSTART:20251026T010000
END:STANDARD
BEGIN:DAYLIGHT
TZOFFSETFROM:+0100
TZOFFSETTO:+0200
TZNAME:CEST
DTSTART:20260329T010000
END:DAYLIGHT
BEGIN:STANDARD
TZOFFSETFROM:+0200
TZOFFSETTO:+0100
TZNAME:CET
DTSTART:20261025T010000
END:STANDARD
BEGIN:DAYLIGHT
TZOFFSETFROM:+0100
TZOFFSETTO:+0200
TZNAME:CEST
DTSTART:20270328T010000
END:DAYLIGHT
BEGIN:STANDARD
TZOFFSETFROM:+0200
TZOFFSETTO:+0100
TZNAME:CET
DTSTART:20271031T010000
END:STANDARD
END:VTIMEZONE
BEGIN:VEVENT
DTSTART;TZID=Europe/Stockholm:20260509T190000
DTEND;TZID=Europe/Stockholm:20260509T203000
DTSTAMP:20260421T185316
CREATED:20260114T134540Z
LAST-MODIFIED:20260114T134540Z
UID:10000357-1778353200-1778358600@www.thelaughhouse.se
SUMMARY:David Nihill - Taking Tangents Tour: Stockholm
DESCRIPTION:A Night of Comedy and Storytelling with Irish comedian David Nihill.\n“A superb night out. Highly recommended!” – Scenestr \nLeaving Dublin\, Ireland where he was born and raised until the age of 22\, David got drunk on travel and never quite hit sobriety of it. He has lived and worked in twelve countries and visited over seventy. His shows draw on his wide travels\, cultural observations\, attempts at language study\, (occasional) international drinking session(s) and being a mildly confused immigrant. His brand new show Taking Tangents promised to do just that 🙂 \nDavid is the winner of the prestigious annual San Francisco Comedy Competition\, (previous finalists include Robin Williams\, Ellen DeGeneres and Dana Carvey) and runner-up in the Moth’s largest US Grandslam storytelling competition. Also a bestselling writer\, David recorded his debut special for Dry Bar Comedy in 2019 and has been featured on TED.com\, Sirius XM\, Just For Laughs\, Netflix if a Joke Fest\, The Irish Independent\, Inc\, NPR\, and the Huffington Post among others. A festival favorite\, David’s videos have also gone viral many times over with over 800 million views and a social following of over 2 million people. \nMore info: davidnihill.com \n  \nTICKETS HERE. \n  \n“Warm\, affable and witty\, an astute Irish sensibility and trademark tongue-in-cheek” Scenestr \n“Comedic pinball wizard” Scenestr \n“Comedy is David Nihill’s calling” Beat \nWinner: San Francisco International Comedy Competition \nPlease note this show is in English and tickets are non refundable. 
URL:https://www.thelaughhouse.se/event/david-nihill-talking-tangents/
LOCATION:Scandic Klara\, Slöjdsgatan 7\, Stockholm\, 111 57\, Sweden
CATEGORIES:Stockholm
ATTACH;FMTTYPE=image/jpeg:https://www.thelaughhouse.se/wp-content/uploads/2026/01/David-Nihill-Poster.jpg
ORGANIZER;CN="The Laugh House":MAILTO:thelaughhousestockholm@gmail.com
END:VEVENT
END:VCALENDAR