BEGIN:VCALENDAR
VERSION:2.0
PRODID:-//The Laugh House Comedy Club - ECPv6.15.20//NONSGML v1.0//EN
CALSCALE:GREGORIAN
METHOD:PUBLISH
X-WR-CALNAME:The Laugh House Comedy Club
X-ORIGINAL-URL:https://www.thelaughhouse.se
X-WR-CALDESC:Events for The Laugh House Comedy Club
REFRESH-INTERVAL;VALUE=DURATION:PT1H
X-Robots-Tag:noindex
X-PUBLISHED-TTL:PT1H
BEGIN:VTIMEZONE
TZID:Europe/Stockholm
BEGIN:DAYLIGHT
TZOFFSETFROM:+0100
TZOFFSETTO:+0200
TZNAME:CEST
DTSTART:20250330T010000
END:DAYLIGHT
BEGIN:STANDARD
TZOFFSETFROM:+0200
TZOFFSETTO:+0100
TZNAME:CET
DTSTART:20251026T010000
END:STANDARD
BEGIN:DAYLIGHT
TZOFFSETFROM:+0100
TZOFFSETTO:+0200
TZNAME:CEST
DTSTART:20260329T010000
END:DAYLIGHT
BEGIN:STANDARD
TZOFFSETFROM:+0200
TZOFFSETTO:+0100
TZNAME:CET
DTSTART:20261025T010000
END:STANDARD
BEGIN:DAYLIGHT
TZOFFSETFROM:+0100
TZOFFSETTO:+0200
TZNAME:CEST
DTSTART:20270328T010000
END:DAYLIGHT
BEGIN:STANDARD
TZOFFSETFROM:+0200
TZOFFSETTO:+0100
TZNAME:CET
DTSTART:20271031T010000
END:STANDARD
END:VTIMEZONE
BEGIN:VEVENT
DTSTART;TZID=Europe/Stockholm:20260508T190000
DTEND;TZID=Europe/Stockholm:20260508T203000
DTSTAMP:20260421T184804
CREATED:20260321T104901Z
LAST-MODIFIED:20260321T104901Z
UID:10000374-1778266800-1778272200@www.thelaughhouse.se
SUMMARY:Alistair Ogden's Here For You | Live Stand Up Comedy in Stockholm
DESCRIPTION:Enjoy a hilarious evening with this rising star in an intimate venue. As seen on Just For Laughs\, Canada’s Got Talent\, CBC and more! \n\n\n\n\nHello! It’s me Alistair writing this. Hope you can make it to my show! \nIt’ll be about 80 minutes of comedy\, starting with one or two opening acts (depending on which locals are available) and then about an hour of my set\, including some classic jokes (that you may have seen of me online) and then a bunch of new never-before-posted stories\, bits\, riffs\, crowdwork\, etc. \nI’m also keeping prices relatively low because I know times are tough\, so hopefully cost isn’t an issue. \nOkay\, I think that’s everything. See you there! \n\nGET YOUR TICKETS HERE!!!
URL:https://www.thelaughhouse.se/event/alistair-ogden/
LOCATION:Scandic Klara\, Slöjdsgatan 7\, Stockholm\, 111 57\, Sweden
CATEGORIES:Stockholm
ATTACH;FMTTYPE=image/jpeg:https://www.thelaughhouse.se/wp-content/uploads/2026/03/Alistair-Ogden.jpeg
ORGANIZER;CN="The Laugh House":MAILTO:thelaughhousestockholm@gmail.com
END:VEVENT
END:VCALENDAR