BEGIN:VCALENDAR
VERSION:2.0
PRODID:-//The Laugh House Comedy Club - ECPv6.15.20//NONSGML v1.0//EN
CALSCALE:GREGORIAN
METHOD:PUBLISH
X-WR-CALNAME:The Laugh House Comedy Club
X-ORIGINAL-URL:https://www.thelaughhouse.se
X-WR-CALDESC:Events for The Laugh House Comedy Club
REFRESH-INTERVAL;VALUE=DURATION:PT1H
X-Robots-Tag:noindex
X-PUBLISHED-TTL:PT1H
BEGIN:VTIMEZONE
TZID:Europe/Stockholm
BEGIN:DAYLIGHT
TZOFFSETFROM:+0100
TZOFFSETTO:+0200
TZNAME:CEST
DTSTART:20250330T010000
END:DAYLIGHT
BEGIN:STANDARD
TZOFFSETFROM:+0200
TZOFFSETTO:+0100
TZNAME:CET
DTSTART:20251026T010000
END:STANDARD
BEGIN:DAYLIGHT
TZOFFSETFROM:+0100
TZOFFSETTO:+0200
TZNAME:CEST
DTSTART:20260329T010000
END:DAYLIGHT
BEGIN:STANDARD
TZOFFSETFROM:+0200
TZOFFSETTO:+0100
TZNAME:CET
DTSTART:20261025T010000
END:STANDARD
BEGIN:DAYLIGHT
TZOFFSETFROM:+0100
TZOFFSETTO:+0200
TZNAME:CEST
DTSTART:20270328T010000
END:DAYLIGHT
BEGIN:STANDARD
TZOFFSETFROM:+0200
TZOFFSETTO:+0100
TZNAME:CET
DTSTART:20271031T010000
END:STANDARD
END:VTIMEZONE
BEGIN:VEVENT
DTSTART;TZID=Europe/Stockholm:20260502T210000
DTEND;TZID=Europe/Stockholm:20260503T233000
DTSTAMP:20260421T171518
CREATED:20260114T133458Z
LAST-MODIFIED:20260405T171735Z
UID:10000356-1777755600-1777851000@www.thelaughhouse.se
SUMMARY:The Laugh House Presents: Kyle Lucey!
DESCRIPTION:Kyle is an international headlining comedian and a staple in Canadian comedy. He is the star of TV shows such as AHC’s Blood and Fury\, Discovery Channel’s Fear Thy Neighbour and Discovery Channel’s Motive and Murders. His debut comedy album Damaged Goods is now streaming on Sirius XM radio. He has over 100k followers across his socials with millions of views on Tik Tok and Instagram.  \n​ \nKyle’s Canadian Psycho tour brought him to world famous venues in Canada\, England\, Scotland\, Wales\, Ireland\, Norway\, Sweden\, Denmark\, The Netherlands\, Belgium\, Luxembourg and Portugal. Some famous venues include Massey Hall in Canada\, Latter in Norway\, Club Haug in the Netherlands and Hot Water Comedy Club in England. Kyle is also signed to Canada’s largest talent agency for stand-up comedy\, Yuk Yuks & Funny Business INC. He has been nominated for the I Heart Jokes Awards twice.  \n\nKyle’s comedy has also landed him massive media interviews on networks such as Dr. Drew Show and CTV. Kyle has appeared at prestigious festivals such as Edinburgh Fringe Festival and Just For Laughs Toronto. He also is the winner of the Durham Comedy Festival and has appeared at various other festivals such as\, The Border City Comedy Festival\, The Beaver and Bacon Comedy Festival\, Comedy Wonder-Fest\, Brampton’s Funniest Comic and Go Yuk Yourself Comedy Contest. \n\nKyle will be headlining our show with some of the best English-language comedians in Sweden! You won’t want to miss this! \n\n* Tickets are also available at the door at the price of 300kr. First come\, first serve!
URL:https://www.thelaughhouse.se/event/may-2nd/
LOCATION:Scandic Klara\, Slöjdsgatan 7\, Stockholm\, 111 57\, Sweden
CATEGORIES:Stockholm
ATTACH;FMTTYPE=image/jpeg:https://www.thelaughhouse.se/wp-content/uploads/2026/01/Kyle-Lucey-Tour-photo-scaled.jpg
ORGANIZER;CN="The Laugh House":MAILTO:thelaughhousestockholm@gmail.com
END:VEVENT
END:VCALENDAR