BEGIN:VCALENDAR
VERSION:2.0
PRODID:-//The Laugh House Comedy Club - ECPv6.15.20//NONSGML v1.0//EN
CALSCALE:GREGORIAN
METHOD:PUBLISH
X-ORIGINAL-URL:https://www.thelaughhouse.se
X-WR-CALDESC:Events for The Laugh House Comedy Club
REFRESH-INTERVAL;VALUE=DURATION:PT1H
X-Robots-Tag:noindex
X-PUBLISHED-TTL:PT1H
BEGIN:VTIMEZONE
TZID:Europe/Stockholm
BEGIN:DAYLIGHT
TZOFFSETFROM:+0100
TZOFFSETTO:+0200
TZNAME:CEST
DTSTART:20250330T010000
END:DAYLIGHT
BEGIN:STANDARD
TZOFFSETFROM:+0200
TZOFFSETTO:+0100
TZNAME:CET
DTSTART:20251026T010000
END:STANDARD
BEGIN:DAYLIGHT
TZOFFSETFROM:+0100
TZOFFSETTO:+0200
TZNAME:CEST
DTSTART:20260329T010000
END:DAYLIGHT
BEGIN:STANDARD
TZOFFSETFROM:+0200
TZOFFSETTO:+0100
TZNAME:CET
DTSTART:20261025T010000
END:STANDARD
BEGIN:DAYLIGHT
TZOFFSETFROM:+0100
TZOFFSETTO:+0200
TZNAME:CEST
DTSTART:20270328T010000
END:DAYLIGHT
BEGIN:STANDARD
TZOFFSETFROM:+0200
TZOFFSETTO:+0100
TZNAME:CET
DTSTART:20271031T010000
END:STANDARD
END:VTIMEZONE
BEGIN:VEVENT
DTSTART;TZID=Europe/Stockholm:20260314T200000
DTEND;TZID=Europe/Stockholm:20260314T220000
DTSTAMP:20260421T185146
CREATED:20251105T090004Z
LAST-MODIFIED:20260321T191458Z
UID:10000331-1773518400-1773525600@www.thelaughhouse.se
SUMMARY:Ali Woods: Basher
DESCRIPTION:Ali Woods is returning to The Laugh House! \nJoin Ali Woods\, viral comedy sensation and star of Comedy Central and Stand Up Sketch Show\, after his last sell-out UK tour\, for his brand-new stand-up comedy show. \nOnline\, Ali has gained hundreds of millions of views and likes for his relatable and satirical sketches. On stage\, he’s supported comedy greats like Russell Kane\, Axel Blake\, and Adam Kay. \nWith his unique blend of sharp wit and relatable humour\, his performances are a must-see. \nDon’t miss him on March 14th at The Laugh House\, right in the heart of Stockholm! \n  \n⭐⭐⭐⭐⭐ ThreeWeeks Edinburgh\n“A perfect show” \n⭐⭐⭐⭐⭐ Everything Theatre\n“Ali Woods is a simply brilliant storyteller” \n⭐⭐⭐⭐⭐LondonTheatre1\n“This is Ali Woods’ world\, and we simply living in it”
URL:https://www.thelaughhouse.se/event/ali-woods-basher/
LOCATION:Scandic Klara\, Slöjdsgatan 7\, Stockholm\, 111 57\, Sweden
CATEGORIES:Stockholm
ATTACH;FMTTYPE=image/png:https://www.thelaughhouse.se/wp-content/uploads/2025/10/The-laugh-house-poster-4.png
ORGANIZER;CN="The Laugh House":MAILTO:thelaughhousestockholm@gmail.com
END:VEVENT
END:VCALENDAR