BEGIN:VCALENDAR
VERSION:2.0
PRODID:-//The Laugh House Comedy Club - ECPv6.15.20//NONSGML v1.0//EN
CALSCALE:GREGORIAN
METHOD:PUBLISH
X-WR-CALNAME:The Laugh House Comedy Club
X-ORIGINAL-URL:https://www.thelaughhouse.se
X-WR-CALDESC:Events for The Laugh House Comedy Club
REFRESH-INTERVAL;VALUE=DURATION:PT1H
X-Robots-Tag:noindex
X-PUBLISHED-TTL:PT1H
BEGIN:VTIMEZONE
TZID:Europe/Stockholm
BEGIN:DAYLIGHT
TZOFFSETFROM:+0100
TZOFFSETTO:+0200
TZNAME:CEST
DTSTART:20250330T010000
END:DAYLIGHT
BEGIN:STANDARD
TZOFFSETFROM:+0200
TZOFFSETTO:+0100
TZNAME:CET
DTSTART:20251026T010000
END:STANDARD
BEGIN:DAYLIGHT
TZOFFSETFROM:+0100
TZOFFSETTO:+0200
TZNAME:CEST
DTSTART:20260329T010000
END:DAYLIGHT
BEGIN:STANDARD
TZOFFSETFROM:+0200
TZOFFSETTO:+0100
TZNAME:CET
DTSTART:20261025T010000
END:STANDARD
BEGIN:DAYLIGHT
TZOFFSETFROM:+0100
TZOFFSETTO:+0200
TZNAME:CEST
DTSTART:20270328T010000
END:DAYLIGHT
BEGIN:STANDARD
TZOFFSETFROM:+0200
TZOFFSETTO:+0100
TZNAME:CET
DTSTART:20271031T010000
END:STANDARD
END:VTIMEZONE
BEGIN:VEVENT
DTSTART;TZID=Europe/Stockholm:20260307T200000
DTEND;TZID=Europe/Stockholm:20260307T220000
DTSTAMP:20260421T184855
CREATED:20250624T080057Z
LAST-MODIFIED:20250718T171645Z
UID:10000298-1772913600-1772920800@www.thelaughhouse.se
SUMMARY:Shane Todd: Hold Me Back
DESCRIPTION:Komikern Shane Todd gör efterlängtat Sverigestopp – uppträder på The Laugh House i Stockholm 7 mars 2026! \nMed sin nya turné Hold Me Back beger sig Shane Todd ut på vägarna – och i vår landar han i Sverige för ett besök i huvudstaden. Lördag den 7 mars intar han scenen på The Laugh House (Scandic Klara) för en kväll fylld av kvick\, självironisk och knivskarp standup. \nBiljettsläpp fredag 27 juni kl. 10.00 via LiveNation.se! \nShane Todd har under det senaste decenniet blivit en av Nordirlands mest älskade komiker. Känd för sina kvicka observationer\, virala sketcher och sin självironiska stil har han gjort succé världen över – från utsålda shower i Storbritannien till turnéer i USA\, Australien och Kanada. Med Hold Me Back är han tillbaka med nytt material och nya skratt – en kväll du inte vill missa.
URL:https://www.thelaughhouse.se/event/shane-todd-hold-me-back/
LOCATION:Scandic Klara\, Slöjdsgatan 7\, Stockholm\, 111 57\, Sweden
CATEGORIES:Stockholm
ATTACH;FMTTYPE=image/jpeg:https://www.thelaughhouse.se/wp-content/uploads/2025/06/Shane_Sweden7.jpg
ORGANIZER;CN="The Laugh House":MAILTO:thelaughhousestockholm@gmail.com
END:VEVENT
END:VCALENDAR