BEGIN:VCALENDAR
VERSION:2.0
PRODID:-//The Laugh House Comedy Club - ECPv6.15.20//NONSGML v1.0//EN
CALSCALE:GREGORIAN
METHOD:PUBLISH
X-ORIGINAL-URL:https://www.thelaughhouse.se
X-WR-CALDESC:Events for The Laugh House Comedy Club
REFRESH-INTERVAL;VALUE=DURATION:PT1H
X-Robots-Tag:noindex
X-PUBLISHED-TTL:PT1H
BEGIN:VTIMEZONE
TZID:Europe/Stockholm
BEGIN:DAYLIGHT
TZOFFSETFROM:+0100
TZOFFSETTO:+0200
TZNAME:CEST
DTSTART:20250330T010000
END:DAYLIGHT
BEGIN:STANDARD
TZOFFSETFROM:+0200
TZOFFSETTO:+0100
TZNAME:CET
DTSTART:20251026T010000
END:STANDARD
BEGIN:DAYLIGHT
TZOFFSETFROM:+0100
TZOFFSETTO:+0200
TZNAME:CEST
DTSTART:20260329T010000
END:DAYLIGHT
BEGIN:STANDARD
TZOFFSETFROM:+0200
TZOFFSETTO:+0100
TZNAME:CET
DTSTART:20261025T010000
END:STANDARD
BEGIN:DAYLIGHT
TZOFFSETFROM:+0100
TZOFFSETTO:+0200
TZNAME:CEST
DTSTART:20270328T010000
END:DAYLIGHT
BEGIN:STANDARD
TZOFFSETFROM:+0200
TZOFFSETTO:+0100
TZNAME:CET
DTSTART:20271031T010000
END:STANDARD
END:VTIMEZONE
BEGIN:VEVENT
DTSTART;TZID=Europe/Stockholm:20260302T193000
DTEND;TZID=Europe/Stockholm:20260302T213000
DTSTAMP:20260421T185045
CREATED:20260107T192002Z
LAST-MODIFIED:20260107T192841Z
UID:10000346-1772479800-1772487000@www.thelaughhouse.se
SUMMARY:Stand-up Comedy in English • Sasha Dolgopolov in Stockholm
DESCRIPTION:STAND-UP COMEDY IN ENGLISH finally! a new english language comedy show from alternative comedian sasha dolgopolov!\n\n\n\nDoors 19:00\, show 19:30 \n🎭STAND-UP COMEDY IN ENGLISH 🎭 \nfinally! a new english language comedy show from alternative comedian sasha dolgopolov! \nif in her previous show sasha explored the theme of stress\, this time the focus is on its opposite – rest\, slowing down\, and calm. \nhow do you take care of yourself when the world around you is falling apart? how do you balance survival and rest? how do you keep from exploding under pressure? how do you stay calm when your life is unstable? how do you accept yourself when the world around you doesn’t? \nsasha asks these questions (to herself and to us) searching for answers and inviting us to join this intriguing and hilarious exploration\, while also talking about migration\, gender\, sexuality\, politics\, language\, growing up\, and of course… fruit flies! \nThe show will be held entirely in English. \n⭐️ Press Reviews ⭐️ \n“One of the most famous stand-up comedians in Russia\, who often mocks the authorities” – Forbes \n“Dolgopolov certainly does mix themes of God\, atheism and profanity – often hilariously” – the Independent \n“One of the most famous representatives of the stand-up genre which is gaining popularity in Russia” – Euronews \n🦄 Audience Reviews: 🦄 \n“I’m and English and German speaker and I just found your stand-up!! I’m obsessed!! I’m jealous of everyone who can understand you in your native language but know that your humor translates well! <3” \n“I am sure most comedians envy you for having so much shitty life experience which you can turn into hilarious material.” \n“Somehow even after switching to English\, Sasha kept her unique style of delivery and wordplay. Absolutely loved the show\, please support Sasha and go see her live if you can.” \n“you’re my boyfriends favorite comedian (he saw you wayy back in moscow) and your first english special is part of how we started dating (he posted a story that said he doesnt go on dates with anyone who hasn’t seen your comedy special\, and well.. here we are).” \n“Well Dolgopolov is a freak for sure” \n🌈 About Sasha: \nSasha(Over 10 mln views on youtube/insta/tiktok )\, a queer alternative political comedian from Russia who immigrated when the war in Ukraine started\, has spent a decade honing her stand-up craft. She’s evolved into one of the most provocative\, recognisable\, original\, and significant Russian-speaking comedians. \nFrequently lauded by opposition media and colleagues\, she’s considered one of the best Russian-speaking comedians in modern history. Now embarking on her second English tour with a completely new program\, Sasha is embracing a new chapter in life and career. \nOver the last decade\, she’s delivered hundreds of solo shows\, open mics\, festivals\, contests across more than 24 countries (not an easy task with this type of passport). Sasha has successfully filmed seven one-hour comedy specials (including one in english) amassing over 14 million views on YouTube collectively. \nDespite public attacks from Russian propagandist media\, she persists in addressing topics like religion\, authoritarianism\, gender non-conformity\, and anti-war stances. \nThis unique comedian is now ready to captivate an English-speaking audience once again! \n\nTICKETS HERE!!!
URL:https://www.thelaughhouse.se/event/sasha-dogopolov/
LOCATION:Scandic Klara\, Slöjdsgatan 7\, Stockholm\, 111 57\, Sweden
CATEGORIES:Stockholm
ATTACH;FMTTYPE=image/jpeg:https://www.thelaughhouse.se/wp-content/uploads/2026/01/Sasha-Dolgopolov-Tickets1-scaled.jpg
ORGANIZER;CN="The Laugh House":MAILTO:thelaughhousestockholm@gmail.com
END:VEVENT
END:VCALENDAR