BEGIN:VCALENDAR
VERSION:2.0
PRODID:-//The Laugh House Comedy Club - ECPv6.15.20//NONSGML v1.0//EN
CALSCALE:GREGORIAN
METHOD:PUBLISH
X-WR-CALNAME:The Laugh House Comedy Club
X-ORIGINAL-URL:https://www.thelaughhouse.se
X-WR-CALDESC:Events for The Laugh House Comedy Club
REFRESH-INTERVAL;VALUE=DURATION:PT1H
X-Robots-Tag:noindex
X-PUBLISHED-TTL:PT1H
BEGIN:VTIMEZONE
TZID:Europe/Stockholm
BEGIN:DAYLIGHT
TZOFFSETFROM:+0100
TZOFFSETTO:+0200
TZNAME:CEST
DTSTART:20250330T010000
END:DAYLIGHT
BEGIN:STANDARD
TZOFFSETFROM:+0200
TZOFFSETTO:+0100
TZNAME:CET
DTSTART:20251026T010000
END:STANDARD
BEGIN:DAYLIGHT
TZOFFSETFROM:+0100
TZOFFSETTO:+0200
TZNAME:CEST
DTSTART:20260329T010000
END:DAYLIGHT
BEGIN:STANDARD
TZOFFSETFROM:+0200
TZOFFSETTO:+0100
TZNAME:CET
DTSTART:20261025T010000
END:STANDARD
BEGIN:DAYLIGHT
TZOFFSETFROM:+0100
TZOFFSETTO:+0200
TZNAME:CEST
DTSTART:20270328T010000
END:DAYLIGHT
BEGIN:STANDARD
TZOFFSETFROM:+0200
TZOFFSETTO:+0100
TZNAME:CET
DTSTART:20271031T010000
END:STANDARD
END:VTIMEZONE
BEGIN:VEVENT
DTSTART;TZID=Europe/Stockholm:20260221T210000
DTEND;TZID=Europe/Stockholm:20260221T233000
DTSTAMP:20260421T203553
CREATED:20260106T224723Z
LAST-MODIFIED:20260215T122530Z
UID:10000341-1771707600-1771716600@www.thelaughhouse.se
SUMMARY:The Laugh House Feb 21st English Comedy Show
DESCRIPTION:The Laugh House Presents: Ryan Bussell Live!\nStockholm’s premier Saturday night comedy experience is back! On February 21st\, we’re turning up the volume in the basement of Scandic Klara for another two-hour escape from the ordinary. If you’re tired of the “stiff” Scandinavian norm\, come experience the raw\, high-energy\, NYC basement vibe that only The Laugh House delivers. \nHeadlining the night is the brilliant Ryan Bussell. An American veteran of the Swedish comedy scene\, Ryan is a master of smart\, self-deprecating humor and razor-sharp cultural observations. His relatable style and effortless stage presence have made him a massive crowd favorite—prepare for a world-class headlining set. \nGuiding you through the night is your host\, Jonathan Rollins. Fresh off his own tours and specials\, Jonathan brings that signature American-Swedish powerhouse energy\, ensuring the room stays electric and the laughs never stop. \nThe February 21st All-Star Lineup:\n\n\nHeadliner: Ryan Bussell – The American maestro of witty observations and self-deprecating charm. \n\n\nMC: Jonathan Rollins – Your high-energy host\, storyteller\, and the man behind the movement. \n\n\n\nFeature: Johannes Brenning – A king of the quirky and absurd; Johannes guarantees a set that is as unpredictable as it is hilarious. \n\n\nSupport: Michel Sanchez – A master of subtle\, sharp comedy with impeccable timing and a minimalistic\, brilliant style. \n\n\nSupport: Linda Gerstenmayer – Bold\, intelligent\, and powerful—Linda tackles every topic with a fierce and funny edge. \n\n\nSupport: Flakrim Fejzullahu – A rising star known for his charismatic storytelling and infectious energy that commands the room. \n\n\nJoin our vibrant community of expats\, students\, tourists\, and locals for a night of international talent and pure belly laughs. This is more than just a show; it’s your weekly Saturday night getaway. \nThe show is in the basement of Scandic Klara\, Hötorget (Slöjdgatan 7\, 111 21). Doors open at 8:30 PM for pre-show drinks\, and the show starts at 9:00 PM. \n\nSaturdays were made for this—get your tickets now! \n*Tickets will be sold at the door (space permitting) for 300kr on a first come\, first serve basis
URL:https://www.thelaughhouse.se/event/feb-21st/
LOCATION:Scandic Klara\, Slöjdsgatan 7\, Stockholm\, 111 57\, Sweden
CATEGORIES:Stockholm
ATTACH;FMTTYPE=image/jpeg:https://www.thelaughhouse.se/wp-content/uploads/2026/01/LH-Feb-21st-poster-square.jpeg
ORGANIZER;CN="The Laugh House":MAILTO:thelaughhousestockholm@gmail.com
END:VEVENT
END:VCALENDAR