BEGIN:VCALENDAR
VERSION:2.0
PRODID:-//The Laugh House Comedy Club - ECPv6.15.20//NONSGML v1.0//EN
CALSCALE:GREGORIAN
METHOD:PUBLISH
X-WR-CALNAME:The Laugh House Comedy Club
X-ORIGINAL-URL:https://www.thelaughhouse.se
X-WR-CALDESC:Events for The Laugh House Comedy Club
REFRESH-INTERVAL;VALUE=DURATION:PT1H
X-Robots-Tag:noindex
X-PUBLISHED-TTL:PT1H
BEGIN:VTIMEZONE
TZID:Europe/Stockholm
BEGIN:DAYLIGHT
TZOFFSETFROM:+0100
TZOFFSETTO:+0200
TZNAME:CEST
DTSTART:20250330T010000
END:DAYLIGHT
BEGIN:STANDARD
TZOFFSETFROM:+0200
TZOFFSETTO:+0100
TZNAME:CET
DTSTART:20251026T010000
END:STANDARD
BEGIN:DAYLIGHT
TZOFFSETFROM:+0100
TZOFFSETTO:+0200
TZNAME:CEST
DTSTART:20260329T010000
END:DAYLIGHT
BEGIN:STANDARD
TZOFFSETFROM:+0200
TZOFFSETTO:+0100
TZNAME:CET
DTSTART:20261025T010000
END:STANDARD
BEGIN:DAYLIGHT
TZOFFSETFROM:+0100
TZOFFSETTO:+0200
TZNAME:CEST
DTSTART:20270328T010000
END:DAYLIGHT
BEGIN:STANDARD
TZOFFSETFROM:+0200
TZOFFSETTO:+0100
TZNAME:CET
DTSTART:20271031T010000
END:STANDARD
END:VTIMEZONE
BEGIN:VEVENT
DTSTART;TZID=Europe/Stockholm:20260207T210000
DTEND;TZID=Europe/Stockholm:20260207T233000
DTSTAMP:20260421T203603
CREATED:20260106T221655Z
LAST-MODIFIED:20260205T184113Z
UID:10000339-1770498000-1770507000@www.thelaughhouse.se
SUMMARY:The Laugh House Feb 7th English Comedy Show
DESCRIPTION:The Laugh House Presents: Isak Jansson Live!\nReady to escape the “stiff” Scandinavian winter? On Saturday\, February 7th\, we’re bringing the heat back to the basement of Scandic Klara. Forget the polite\, quiet comedy sets you’re used to—The Laugh House is all about that raw\, electric NYC comedy club vibe right in the heart of Stockholm. \nHeadlining the night is one of the most creative forces in Swedish comedy\, Isak Jansson. Isak is a powerhouse of high-energy observations and brilliant storytelling. Whether he’s dissecting cultural quirks or spinning absurd tales\, his pace and charisma make him an absolute must-see in English. \nYour host for the night is the incredibly sharp Milad Parchami. With his quick wit and engaging stage presence\, Milad breaks the norm\, ensuring the room stays lively and the laughs keep coming from the moment the mic turns on. \nThe February 7th Lineup:\n\n\nHeadliner: Isak Jansson – A creative genius known for his high-energy delivery and internationally acclaimed material. \n\n\nMC: Milad Parchami – Our charismatic host who sets the perfect tone for an unfiltered night of comedy. \n\n\nFeature: Johannes Brenning – A master of the quirky and the absurd; expect the unexpected and prepare to laugh hard. \n\n\nSupport: Jonathan Rollins – Bringing that signature American-Swedish energy and sharp observational wit. \n\n\nSupport: Linda Gerstenmayer – Bold\, intelligent\, and unafraid to tackle any topic with a hilarious edge. \n\n\nSupport: Cappuccino Brown – A fresh\, high-energy performer who knows exactly how to work a basement room. \n\n\nJoin our lively crowd of expats\, students\, tourists\, and locals for a two-hour getaway packed with belly laughs. This is the ultimate destination for anyone who wants authentic stand-up in a space that truly feels alive. \nThe show is in the basement of Scandic Klara\, Hötorget (Slöjdgatan 7\, 111 21). Doors open at 8:30 PM for drinks and pre-show buzz\, and the show starts promptly at 9:00 PM. \nDon’t miss out—get your tickets now for the best Saturday night in the city! \n*Tickets will be sold at the door (space permitting) for 300kr on a first come\, first serve basis
URL:https://www.thelaughhouse.se/event/feb-7th/
LOCATION:Scandic Klara\, Slöjdsgatan 7\, Stockholm\, 111 57\, Sweden
CATEGORIES:Stockholm
ATTACH;FMTTYPE=image/jpeg:https://www.thelaughhouse.se/wp-content/uploads/2026/01/LH-Feb-7th-poster-square.jpeg
ORGANIZER;CN="The Laugh House":MAILTO:thelaughhousestockholm@gmail.com
END:VEVENT
END:VCALENDAR