BEGIN:VCALENDAR
VERSION:2.0
PRODID:-//The Laugh House Comedy Club - ECPv6.15.20//NONSGML v1.0//EN
CALSCALE:GREGORIAN
METHOD:PUBLISH
X-ORIGINAL-URL:https://www.thelaughhouse.se
X-WR-CALDESC:Events for The Laugh House Comedy Club
REFRESH-INTERVAL;VALUE=DURATION:PT1H
X-Robots-Tag:noindex
X-PUBLISHED-TTL:PT1H
BEGIN:VTIMEZONE
TZID:Europe/Stockholm
BEGIN:DAYLIGHT
TZOFFSETFROM:+0100
TZOFFSETTO:+0200
TZNAME:CEST
DTSTART:20250330T010000
END:DAYLIGHT
BEGIN:STANDARD
TZOFFSETFROM:+0200
TZOFFSETTO:+0100
TZNAME:CET
DTSTART:20251026T010000
END:STANDARD
BEGIN:DAYLIGHT
TZOFFSETFROM:+0100
TZOFFSETTO:+0200
TZNAME:CEST
DTSTART:20260329T010000
END:DAYLIGHT
BEGIN:STANDARD
TZOFFSETFROM:+0200
TZOFFSETTO:+0100
TZNAME:CET
DTSTART:20261025T010000
END:STANDARD
BEGIN:DAYLIGHT
TZOFFSETFROM:+0100
TZOFFSETTO:+0200
TZNAME:CEST
DTSTART:20270328T010000
END:DAYLIGHT
BEGIN:STANDARD
TZOFFSETFROM:+0200
TZOFFSETTO:+0100
TZNAME:CET
DTSTART:20271031T010000
END:STANDARD
END:VTIMEZONE
BEGIN:VEVENT
DTSTART;TZID=Europe/Stockholm:20260919T200000
DTEND;TZID=Europe/Stockholm:20260919T220000
DTSTAMP:20260421T215051
CREATED:20260220T090015Z
LAST-MODIFIED:20260413T142730Z
UID:10000369-1789848000-1789855200@www.thelaughhouse.se
SUMMARY:Thomas Green: Brainstorm
DESCRIPTION:One of Australia’s best exports\, Thomas Green storms back onto the stage to electrify audiences with a brand new hour\, following his sell-out debut tour. After a significant self-discovery\, Green realises his life is a whirlwind full of tangents of his own making\, navigating through the impulsive\, random and stupid. After selling out all shows in 2025\, Thomas Green’s Brainstorm tour is one of the hottest tickets around – now running through to the end of 2026 including 10 shows at London’s Leicester Square Theatre. As seen on ITV and as heard on BBC radio. Tour support for Mo Gilligan\, Jason Manford\, Russell Kane and Adam Rowe. A podcast fan-favourite\, and regular guest on the hit podcast “Have A Word”  \n“Incredible comic. One of my favourites to watch live” \n– Mo Gilligan \n“Seriously funny f***er” \n– Russell Kane \n“He’s proof you don’t need a gimmick to be great” \n ★★★★\nThe List (UK)
URL:https://www.thelaughhouse.se/event/thomas-green-brainstorm/
LOCATION:Scandic Klara\, Slöjdsgatan 7\, Stockholm\, 111 57\, Sweden
CATEGORIES:Stockholm
ATTACH;FMTTYPE=image/jpeg:https://www.thelaughhouse.se/wp-content/uploads/2026/02/Thomas-Green-1080x1350-1.jpg
ORGANIZER;CN="The Laugh House":MAILTO:thelaughhousestockholm@gmail.com
END:VEVENT
END:VCALENDAR