BEGIN:VCALENDAR
VERSION:2.0
PRODID:-//The Laugh House Comedy Club - ECPv6.15.20//NONSGML v1.0//EN
CALSCALE:GREGORIAN
METHOD:PUBLISH
X-WR-CALNAME:The Laugh House Comedy Club
X-ORIGINAL-URL:https://www.thelaughhouse.se
X-WR-CALDESC:Events for The Laugh House Comedy Club
REFRESH-INTERVAL;VALUE=DURATION:PT1H
X-Robots-Tag:noindex
X-PUBLISHED-TTL:PT1H
BEGIN:VTIMEZONE
TZID:Europe/Stockholm
BEGIN:DAYLIGHT
TZOFFSETFROM:+0100
TZOFFSETTO:+0200
TZNAME:CEST
DTSTART:20250330T010000
END:DAYLIGHT
BEGIN:STANDARD
TZOFFSETFROM:+0200
TZOFFSETTO:+0100
TZNAME:CET
DTSTART:20251026T010000
END:STANDARD
BEGIN:DAYLIGHT
TZOFFSETFROM:+0100
TZOFFSETTO:+0200
TZNAME:CEST
DTSTART:20260329T010000
END:DAYLIGHT
BEGIN:STANDARD
TZOFFSETFROM:+0200
TZOFFSETTO:+0100
TZNAME:CET
DTSTART:20261025T010000
END:STANDARD
BEGIN:DAYLIGHT
TZOFFSETFROM:+0100
TZOFFSETTO:+0200
TZNAME:CEST
DTSTART:20270328T010000
END:DAYLIGHT
BEGIN:STANDARD
TZOFFSETFROM:+0200
TZOFFSETTO:+0100
TZNAME:CET
DTSTART:20271031T010000
END:STANDARD
END:VTIMEZONE
BEGIN:VEVENT
DTSTART;TZID=Europe/Stockholm:20260207T210000
DTEND;TZID=Europe/Stockholm:20260207T233000
DTSTAMP:20260421T190009
CREATED:20260106T221655Z
LAST-MODIFIED:20260205T184113Z
UID:10000339-1770498000-1770507000@www.thelaughhouse.se
SUMMARY:The Laugh House Feb 7th English Comedy Show
DESCRIPTION:The Laugh House Presents: Isak Jansson Live!\nReady to escape the “stiff” Scandinavian winter? On Saturday\, February 7th\, we’re bringing the heat back to the basement of Scandic Klara. Forget the polite\, quiet comedy sets you’re used to—The Laugh House is all about that raw\, electric NYC comedy club vibe right in the heart of Stockholm. \nHeadlining the night is one of the most creative forces in Swedish comedy\, Isak Jansson. Isak is a powerhouse of high-energy observations and brilliant storytelling. Whether he’s dissecting cultural quirks or spinning absurd tales\, his pace and charisma make him an absolute must-see in English. \nYour host for the night is the incredibly sharp Milad Parchami. With his quick wit and engaging stage presence\, Milad breaks the norm\, ensuring the room stays lively and the laughs keep coming from the moment the mic turns on. \nThe February 7th Lineup:\n\n\nHeadliner: Isak Jansson – A creative genius known for his high-energy delivery and internationally acclaimed material. \n\n\nMC: Milad Parchami – Our charismatic host who sets the perfect tone for an unfiltered night of comedy. \n\n\nFeature: Johannes Brenning – A master of the quirky and the absurd; expect the unexpected and prepare to laugh hard. \n\n\nSupport: Jonathan Rollins – Bringing that signature American-Swedish energy and sharp observational wit. \n\n\nSupport: Linda Gerstenmayer – Bold\, intelligent\, and unafraid to tackle any topic with a hilarious edge. \n\n\nSupport: Cappuccino Brown – A fresh\, high-energy performer who knows exactly how to work a basement room. \n\n\nJoin our lively crowd of expats\, students\, tourists\, and locals for a two-hour getaway packed with belly laughs. This is the ultimate destination for anyone who wants authentic stand-up in a space that truly feels alive. \nThe show is in the basement of Scandic Klara\, Hötorget (Slöjdgatan 7\, 111 21). Doors open at 8:30 PM for drinks and pre-show buzz\, and the show starts promptly at 9:00 PM. \nDon’t miss out—get your tickets now for the best Saturday night in the city! \n*Tickets will be sold at the door (space permitting) for 300kr on a first come\, first serve basis
URL:https://www.thelaughhouse.se/event/feb-7th/
LOCATION:Scandic Klara\, Slöjdsgatan 7\, Stockholm\, 111 57\, Sweden
CATEGORIES:Stockholm
ATTACH;FMTTYPE=image/jpeg:https://www.thelaughhouse.se/wp-content/uploads/2026/01/LH-Feb-7th-poster-square.jpeg
ORGANIZER;CN="The Laugh House":MAILTO:thelaughhousestockholm@gmail.com
END:VEVENT
BEGIN:VEVENT
DTSTART;TZID=Europe/Stockholm:20260214T210000
DTEND;TZID=Europe/Stockholm:20260214T233000
DTSTAMP:20260421T190009
CREATED:20260106T223552Z
LAST-MODIFIED:20260213T090815Z
UID:10000340-1771102800-1771111800@www.thelaughhouse.se
SUMMARY:The Laugh House Valentine's Day Comedy Show
DESCRIPTION:The Laugh House: Stockholm’s Authentic Comedy Basement\nForget everything you know about “stiff” Scandinavian comedy. The Laugh House is here to break the norm. \nEvery Saturday night\, we transform the heart of Stockholm into a high-octane\, New York City-style comedy basement. We bring together the best international comedy talent and a raw\, electric energy that you won’t find anywhere else in the city. \nStep into an intimate\, subterranean space where the lights are low and the energy is high. Our shows aren’t just a series of acts; they are a two-hour getaway from the troubles of the day. Led by exciting\, engaging hosts who specialize in breaking the ice and connecting the room\, we pride ourselves on a lively\, interactive atmosphere that guarantees belly laughs from start to finish. \nWhether you’re coming for a world-class headliner or a surprise international guest\, you can expect a fast-paced\, professional showcase in a room that feels like a hidden gem. This is the ultimate Saturday night destination for anyone who wants authentic\, English-speaking stand-up in a space that truly feels alive. \n\nShow Details\n\n\nWhere: The basement of Scandic Klara\, Hötorget (Slöjdgatan 7\, 111 21). \n\n\nWhen: Every Saturday (Spring Season runs through June 13th). \n\n\nDoors: 8:30 PM (Come early for drinks and to catch the pre-show buzz!) \n\n\nShowtime: 9:00 PM \n\n\nEscape the ordinary. Join the movement. Get your tickets now and experience the best English comedy in Sweden! \n*Tickets will be sold at the door (space permitting) for 300kr on a first come\, first serve basis
URL:https://www.thelaughhouse.se/event/valentines-day-show/
LOCATION:Scandic Klara\, Slöjdsgatan 7\, Stockholm\, 111 57\, Sweden
CATEGORIES:Stockholm
ATTACH;FMTTYPE=image/jpeg:https://www.thelaughhouse.se/wp-content/uploads/2026/01/LH-Feb-14th-poster-square.jpeg
ORGANIZER;CN="The Laugh House":MAILTO:thelaughhousestockholm@gmail.com
END:VEVENT
BEGIN:VEVENT
DTSTART;TZID=Europe/Stockholm:20260221T210000
DTEND;TZID=Europe/Stockholm:20260221T233000
DTSTAMP:20260421T190009
CREATED:20260106T224723Z
LAST-MODIFIED:20260215T122530Z
UID:10000341-1771707600-1771716600@www.thelaughhouse.se
SUMMARY:The Laugh House Feb 21st English Comedy Show
DESCRIPTION:The Laugh House Presents: Ryan Bussell Live!\nStockholm’s premier Saturday night comedy experience is back! On February 21st\, we’re turning up the volume in the basement of Scandic Klara for another two-hour escape from the ordinary. If you’re tired of the “stiff” Scandinavian norm\, come experience the raw\, high-energy\, NYC basement vibe that only The Laugh House delivers. \nHeadlining the night is the brilliant Ryan Bussell. An American veteran of the Swedish comedy scene\, Ryan is a master of smart\, self-deprecating humor and razor-sharp cultural observations. His relatable style and effortless stage presence have made him a massive crowd favorite—prepare for a world-class headlining set. \nGuiding you through the night is your host\, Jonathan Rollins. Fresh off his own tours and specials\, Jonathan brings that signature American-Swedish powerhouse energy\, ensuring the room stays electric and the laughs never stop. \nThe February 21st All-Star Lineup:\n\n\nHeadliner: Ryan Bussell – The American maestro of witty observations and self-deprecating charm. \n\n\nMC: Jonathan Rollins – Your high-energy host\, storyteller\, and the man behind the movement. \n\n\n\nFeature: Johannes Brenning – A king of the quirky and absurd; Johannes guarantees a set that is as unpredictable as it is hilarious. \n\n\nSupport: Michel Sanchez – A master of subtle\, sharp comedy with impeccable timing and a minimalistic\, brilliant style. \n\n\nSupport: Linda Gerstenmayer – Bold\, intelligent\, and powerful—Linda tackles every topic with a fierce and funny edge. \n\n\nSupport: Flakrim Fejzullahu – A rising star known for his charismatic storytelling and infectious energy that commands the room. \n\n\nJoin our vibrant community of expats\, students\, tourists\, and locals for a night of international talent and pure belly laughs. This is more than just a show; it’s your weekly Saturday night getaway. \nThe show is in the basement of Scandic Klara\, Hötorget (Slöjdgatan 7\, 111 21). Doors open at 8:30 PM for pre-show drinks\, and the show starts at 9:00 PM. \n\nSaturdays were made for this—get your tickets now! \n*Tickets will be sold at the door (space permitting) for 300kr on a first come\, first serve basis
URL:https://www.thelaughhouse.se/event/feb-21st/
LOCATION:Scandic Klara\, Slöjdsgatan 7\, Stockholm\, 111 57\, Sweden
CATEGORIES:Stockholm
ATTACH;FMTTYPE=image/jpeg:https://www.thelaughhouse.se/wp-content/uploads/2026/01/LH-Feb-21st-poster-square.jpeg
ORGANIZER;CN="The Laugh House":MAILTO:thelaughhousestockholm@gmail.com
END:VEVENT
BEGIN:VEVENT
DTSTART;TZID=Europe/Stockholm:20260227T203000
DTEND;TZID=Europe/Stockholm:20260227T233000
DTSTAMP:20260421T190009
CREATED:20260121T155033Z
LAST-MODIFIED:20260204T131028Z
UID:10000362-1772224200-1772235000@www.thelaughhouse.se
SUMMARY:Svartskalle Standup 27-Feb
DESCRIPTION:Svartskalle Standup – 27 februari: En Lineup i Världsklass!\nLöningsfredag på The Laugh House innebär bara en sak: Stockholms tyngsta humorkväll. \nDen 27 februari fortsätter vi 2026 med en line-up som får väggarna på Scandic Klara att skaka. Vi har handplockat några av de absolut vassaste namnen inom svensk standup för en kväll med rå humor\, livemusik och den där oslagbara Svartskalle-energin. \nKvällens lineup:\n\n\nMC: Jonathan Rollins – Vår karismatiske och extremt engagerande host som håller tempot uppe och ser till att publiken är med på tåget från sekund ett. \n\n\nEvelyn Mok – En av Sveriges största humor-exporter! Med hyllade shower i både Storbritannien och Sverige levererar hon humor som är lika smart som den är obekväm. \n\n\nMilad Parchami – Känd för sin knivskarpa leverans och förmåga att vända perspektiv på de mest oväntade sätt. \n\n\nAdeel Faqih – Den nya generationens röst som med enorm charm och träffsäkerhet blivit en självklar publikfavorit. \n\n\nDessutom: Liveband & Special Surprises! Som alltid på Svartskalle Standup nöjer vi oss inte med bara komedi. Vårt liveband sätter stämningen\, och vi har ett par exklusiva överraskningar under kvällen som du absolut inte vill missa. \nDet här är showen där mångfald firas\, humor utmanas och energin är total. Säkra dina biljetter nu – februaris show kommer bli legendarisk! \n\nSnabbinfo:\n\n\nPlats: The Laugh House (Scandic Klara\, Slöjdgatan 7) \n\n\nDatum: Fredag 27 februari \n\n\nTid: 20:30 (Kom tidigt för bästa platserna!) \n\n\nSpråk: Svenska (och en touch av Jonathan Rollins engelska energi) \n\n\n  \n\n\n\n\n*Biljetter finns att köpa vid dörren för 250kr (först till kvarn)
URL:https://www.thelaughhouse.se/event/svartskalle-standup-27-feb/
LOCATION:Scandic Klara\, Slöjdsgatan 7\, Stockholm\, 111 57\, Sweden
CATEGORIES:Stockholm,Swedish shows
ORGANIZER;CN="The Laugh House":MAILTO:thelaughhousestockholm@gmail.com
END:VEVENT
BEGIN:VEVENT
DTSTART;TZID=Europe/Stockholm:20260228T210000
DTEND;TZID=Europe/Stockholm:20260228T233000
DTSTAMP:20260421T190009
CREATED:20260106T225708Z
LAST-MODIFIED:20260219T091849Z
UID:10000342-1772312400-1772321400@www.thelaughhouse.se
SUMMARY:The Laugh House Sportlov Special with Kathryn LeRoux!
DESCRIPTION:The Laugh House Sportlov Special with Kathryn LeRoux!\nWho needs the ski slopes when you have the hottest basement in Stockholm? On Saturday\, February 28th\, we’re celebrating Sportlov the only way we know how: with a high-octane\, two-hour escape from reality. Forget the quiet\, polite comedy sets—we’re bringing that raw\, unfiltered NYC comedy club energy to the heart of the city. \nHeadlining this massive show is the one-and-only Kathryn LeRoux. A force of nature on stage\, Kathryn is known for her razor-sharp observations\, quick-witted social commentary\, and a stage presence that is beautifully unpredictable. Don’t be surprised if she bursts into song out of nowhere—her high-energy\, multi-talented approach is exactly what a Laugh House headliner is all about. \nGuiding the chaos is your host\, Jonathan Rollins. Jonathan brings the heat to ensure the Sportlov vibe stays electric from start to finish. \nThe February 28th Lineup:\n\n\nHeadliner: Kathryn LeRoux – Sharp-tongued\, observational\, and brilliantly spontaneous (with a voice that might just serenade you between the punchlines). \n\n\nMC: Jonathan Rollins – Your resident American-Swedish powerhouse\, keeping the vibes high and the crowd engaged. \n\n\nFeature: Petey Rancel – A Cuban-American veteran of the NYC scene. Petey’s physical comedy and infectious energy are the perfect lead-in to a legendary night. \n\n\nSupport: Milad Parchami – The sharp-witted former lawyer who always delivers a smart\, hilarious take on the world. \n\n\nSupport: Viktoria KHD – A rising talent with a fresh perspective and a style that perfectly fits the Laugh House vibe. \n\n\nSupport: Vig – Bringing a unique comedic voice and a punchy delivery to the basement stage. \n\n\nThe Experience\nJoin our melting pot of expats\, students\, tourists\, and locals for a night where the rules are broken and the laughs are non-stop. Whether you’re on school break or just need a Saturday night getaway\, this is the only place to be. \n\nShow Details:\n\n\nLocation: The basement of Scandic Klara\, Hötorget (Slöjdgatan 7). \n\n\nDoors Open: 8:30 PM (Pre-show drinks and NYC vibes). \n\n\nShow Starts: 9:00 PM Sharp. \n\n\nThe best Sportlov plans don’t require a lift pass. Get your tickets now! \n*Tickets will be sold at the door (space permitting) for 300kr on a first come\, first serve basis
URL:https://www.thelaughhouse.se/event/feb-28th/
LOCATION:Scandic Klara\, Slöjdsgatan 7\, Stockholm\, 111 57\, Sweden
CATEGORIES:Stockholm
ATTACH;FMTTYPE=image/jpeg:https://www.thelaughhouse.se/wp-content/uploads/2026/01/LH-Feb-28th-cover-square.jpeg
ORGANIZER;CN="The Laugh House":MAILTO:thelaughhousestockholm@gmail.com
END:VEVENT
END:VCALENDAR